BEGIN:VCALENDAR
VERSION:2.0
PRODID:-//Knox Presbyterian Church - ECPv6.6.4.2//NONSGML v1.0//EN
CALSCALE:GREGORIAN
METHOD:PUBLISH
X-ORIGINAL-URL:https://knoxvkh.ca
X-WR-CALDESC:Events for Knox Presbyterian Church
REFRESH-INTERVAL;VALUE=DURATION:PT1H
X-Robots-Tag:noindex
X-PUBLISHED-TTL:PT1H
BEGIN:VTIMEZONE
TZID:UTC
BEGIN:STANDARD
TZOFFSETFROM:+0000
TZOFFSETTO:+0000
TZNAME:UTC
DTSTART:20250101T000000
END:STANDARD
END:VTIMEZONE
BEGIN:VEVENT
DTSTART;TZID=UTC:20250312T130000
DTEND;TZID=UTC:20250312T140000
DTSTAMP:20260422T212724
CREATED:20250226T184349Z
LAST-MODIFIED:20250226T184349Z
UID:3756-1741784400-1741788000@knoxvkh.ca
SUMMARY:Worship at the Walfort (Heritage) Lodge
DESCRIPTION:
URL:https://knoxvkh.ca/event/worship-at-the-walfort-heritage-lodge/
END:VEVENT
END:VCALENDAR