BEGIN:VCALENDAR
VERSION:2.0
PRODID:-//Knox Presbyterian Church - ECPv6.6.4.2//NONSGML v1.0//EN
CALSCALE:GREGORIAN
METHOD:PUBLISH
X-WR-CALNAME:Knox Presbyterian Church
X-ORIGINAL-URL:https://knoxvkh.ca
X-WR-CALDESC:Events for Knox Presbyterian Church
REFRESH-INTERVAL;VALUE=DURATION:PT1H
X-Robots-Tag:noindex
X-PUBLISHED-TTL:PT1H
BEGIN:VTIMEZONE
TZID:UTC
BEGIN:STANDARD
TZOFFSETFROM:+0000
TZOFFSETTO:+0000
TZNAME:UTC
DTSTART:20250101T000000
END:STANDARD
END:VTIMEZONE
BEGIN:VEVENT
DTSTART;VALUE=DATE:20250524
DTEND;VALUE=DATE:20250525
DTSTAMP:20260421T060900
CREATED:20250226T191648Z
LAST-MODIFIED:20250317T225230Z
UID:3772-1748044800-1748131199@knoxvkh.ca
SUMMARY:200th Anniversary BBQ Chicken dinner ~ Catered  100 tickets only  5:00pm
DESCRIPTION:
URL:https://knoxvkh.ca/event/200th-anniversary-bbq-chicken-dinner-details-to-follow/
END:VEVENT
END:VCALENDAR