BEGIN:VCALENDAR
VERSION:2.0
PRODID:-//Knox Presbyterian Church - ECPv6.6.4.2//NONSGML v1.0//EN
CALSCALE:GREGORIAN
METHOD:PUBLISH
X-WR-CALNAME:Knox Presbyterian Church
X-ORIGINAL-URL:https://knoxvkh.ca
X-WR-CALDESC:Events for Knox Presbyterian Church
REFRESH-INTERVAL;VALUE=DURATION:PT1H
X-Robots-Tag:noindex
X-PUBLISHED-TTL:PT1H
BEGIN:VTIMEZONE
TZID:UTC
BEGIN:STANDARD
TZOFFSETFROM:+0000
TZOFFSETTO:+0000
TZNAME:UTC
DTSTART:20250101T000000
END:STANDARD
END:VTIMEZONE
BEGIN:VEVENT
DTSTART;TZID=UTC:20250614T080000
DTEND;TZID=UTC:20250614T220000
DTSTAMP:20260421T043647
CREATED:20250608T194145Z
LAST-MODIFIED:20250608T194145Z
UID:3818-1749888000-1749938400@knoxvkh.ca
SUMMARY:Men's Breakfast & Bible Study
DESCRIPTION:
URL:https://knoxvkh.ca/event/mens-breakfast-bible-study-5/
END:VEVENT
BEGIN:VEVENT
DTSTART;TZID=UTC:20250614T140000
DTEND;TZID=UTC:20250614T160000
DTSTAMP:20260421T043647
CREATED:20250608T194426Z
LAST-MODIFIED:20250608T194528Z
UID:3821-1749909600-1749916800@knoxvkh.ca
SUMMARY:Anniversary Tea    2pm-4pm
DESCRIPTION:
URL:https://knoxvkh.ca/event/anniversary-tea-2pm-4pm/
END:VEVENT
END:VCALENDAR