BEGIN:VCALENDAR
VERSION:2.0
PRODID:-//Knox Presbyterian Church - ECPv6.6.4.2//NONSGML v1.0//EN
CALSCALE:GREGORIAN
METHOD:PUBLISH
X-WR-CALNAME:Knox Presbyterian Church
X-ORIGINAL-URL:https://knoxvkh.ca
X-WR-CALDESC:Events for Knox Presbyterian Church
REFRESH-INTERVAL;VALUE=DURATION:PT1H
X-Robots-Tag:noindex
X-PUBLISHED-TTL:PT1H
BEGIN:VTIMEZONE
TZID:UTC
BEGIN:STANDARD
TZOFFSETFROM:+0000
TZOFFSETTO:+0000
TZNAME:UTC
DTSTART:20240101T000000
END:STANDARD
END:VTIMEZONE
BEGIN:VEVENT
DTSTART;TZID=UTC:20241013T110000
DTEND;TZID=UTC:20241013T123000
DTSTAMP:20260419T210510
CREATED:20240531T185447Z
LAST-MODIFIED:20240531T185447Z
UID:3591-1728817200-1728822600@knoxvkh.ca
SUMMARY:Worship online and in person
DESCRIPTION:
URL:https://knoxvkh.ca/event/worship-online-and-in-person-2/
END:VEVENT
BEGIN:VEVENT
DTSTART;TZID=UTC:20241006T110000
DTEND;TZID=UTC:20241006T130000
DTSTAMP:20260419T210510
CREATED:20240914T183322Z
LAST-MODIFIED:20240914T183322Z
UID:3619-1728212400-1728219600@knoxvkh.ca
SUMMARY:World Communion Sunday
DESCRIPTION:
URL:https://knoxvkh.ca/event/world-communion-sunday-2/
END:VEVENT
BEGIN:VEVENT
DTSTART;TZID=UTC:20241006T110000
DTEND;TZID=UTC:20241006T123000
DTSTAMP:20260419T210510
CREATED:20240531T185148Z
LAST-MODIFIED:20240531T185148Z
UID:3589-1728212400-1728217800@knoxvkh.ca
SUMMARY:Worship in person and online ~ World Communion Sunday
DESCRIPTION:
URL:https://knoxvkh.ca/event/worship-in-person-and-online-world-communion-sunday/
END:VEVENT
BEGIN:VEVENT
DTSTART;TZID=UTC:20241005T100000
DTEND;TZID=UTC:20241005T160000
DTSTAMP:20260419T210510
CREATED:20240915T171653Z
LAST-MODIFIED:20240915T171653Z
UID:3627-1728122400-1728144000@knoxvkh.ca
SUMMARY:Art Sale
DESCRIPTION:
URL:https://knoxvkh.ca/event/art-sale/
END:VEVENT
BEGIN:VEVENT
DTSTART;TZID=UTC:20241005T080000
DTEND;TZID=UTC:20241005T100000
DTSTAMP:20260419T210510
CREATED:20240531T184755Z
LAST-MODIFIED:20240531T184755Z
UID:3587-1728115200-1728122400@knoxvkh.ca
SUMMARY:Men's Prayer Breakfast
DESCRIPTION:
URL:https://knoxvkh.ca/event/mens-prayer-breakfast-5/
END:VEVENT
BEGIN:VEVENT
DTSTART;TZID=UTC:20241004T150000
DTEND;TZID=UTC:20241004T170000
DTSTAMP:20260419T210510
CREATED:20240915T171515Z
LAST-MODIFIED:20240915T171515Z
UID:3625-1728054000-1728061200@knoxvkh.ca
SUMMARY:Art Sale in Hardy Hall featuring Freda Pemberton Smith paintings. All proceeds go to Opportunity Knox to support our refugee family.to
DESCRIPTION:
URL:https://knoxvkh.ca/event/art-sale-in-hardy-hall-featuring-freda-pemberton-smith-paintings-all-proceeds-go-to-opportunity-knox-to-support-our-refugee-family-to/
END:VEVENT
BEGIN:VEVENT
DTSTART;TZID=UTC:20241001T130000
DTEND;TZID=UTC:20241001T143000
DTSTAMP:20260419T210510
CREATED:20240531T184548Z
LAST-MODIFIED:20240531T184548Z
UID:3585-1727787600-1727793000@knoxvkh.ca
SUMMARY:Heritage Lodge Worship
DESCRIPTION:
URL:https://knoxvkh.ca/event/heritage-lodge-worship-7/
END:VEVENT
BEGIN:VEVENT
DTSTART;TZID=UTC:20240929T110000
DTEND;TZID=UTC:20240929T123000
DTSTAMP:20260419T210510
CREATED:20240531T183430Z
LAST-MODIFIED:20240531T183430Z
UID:3578-1727607600-1727613000@knoxvkh.ca
SUMMARY:Worship in person and online
DESCRIPTION:
URL:https://knoxvkh.ca/event/worship-in-person-and-online-47/
END:VEVENT
BEGIN:VEVENT
DTSTART;TZID=UTC:20240928T100000
DTEND;TZID=UTC:20240928T150000
DTSTAMP:20260419T210510
CREATED:20240531T184141Z
LAST-MODIFIED:20240531T184141Z
UID:3583-1727517600-1727535600@knoxvkh.ca
SUMMARY:Photo Directory Sessions
DESCRIPTION:
URL:https://knoxvkh.ca/event/photo-directory-sessions-2/
END:VEVENT
BEGIN:VEVENT
DTSTART;TZID=UTC:20240928T080000
DTEND;TZID=UTC:20240928T100000
DTSTAMP:20260419T210510
CREATED:20240914T181237Z
LAST-MODIFIED:20240914T181237Z
UID:3613-1727510400-1727517600@knoxvkh.ca
SUMMARY:Ladies Breakfast & Bible Study
DESCRIPTION:
URL:https://knoxvkh.ca/event/ladies-breakfast-bible-study-3/
END:VEVENT
BEGIN:VEVENT
DTSTART;TZID=UTC:20240927T143000
DTEND;TZID=UTC:20240927T203000
DTSTAMP:20260419T210510
CREATED:20240531T183838Z
LAST-MODIFIED:20240531T183838Z
UID:3580-1727447400-1727469000@knoxvkh.ca
SUMMARY:Photo Directory Sessions
DESCRIPTION:
URL:https://knoxvkh.ca/event/photo-directory-sessions/
END:VEVENT
BEGIN:VEVENT
DTSTART;TZID=UTC:20240922T190000
DTEND;TZID=UTC:20240922T220000
DTSTAMP:20260419T210510
CREATED:20240531T182902Z
LAST-MODIFIED:20240531T182902Z
UID:3576-1727031600-1727042400@knoxvkh.ca
SUMMARY:Knox at Night  7:00pm
DESCRIPTION:
URL:https://knoxvkh.ca/event/knox-at-night-700pm/
END:VEVENT
BEGIN:VEVENT
DTSTART;TZID=UTC:20240915T110000
DTEND;TZID=UTC:20240915T123000
DTSTAMP:20260419T210510
CREATED:20240531T182532Z
LAST-MODIFIED:20240531T182532Z
UID:3574-1726398000-1726403400@knoxvkh.ca
SUMMARY:Worship in person and Online
DESCRIPTION:
URL:https://knoxvkh.ca/event/worship-in-person-and-online-46/
END:VEVENT
BEGIN:VEVENT
DTSTART;TZID=UTC:20240914T100000
DTEND;TZID=UTC:20240914T150000
DTSTAMP:20260419T210510
CREATED:20240531T182225Z
LAST-MODIFIED:20240531T182225Z
UID:3572-1726308000-1726326000@knoxvkh.ca
SUMMARY:Photo Directory Sessions  10 am-3 pm
DESCRIPTION:
URL:https://knoxvkh.ca/event/photo-directory-sessions-10-am-3-pm/
END:VEVENT
BEGIN:VEVENT
DTSTART;TZID=UTC:20240908T110000
DTEND;TZID=UTC:20240908T140000
DTSTAMP:20260419T210510
CREATED:20240531T181436Z
LAST-MODIFIED:20240531T181436Z
UID:3566-1725793200-1725804000@knoxvkh.ca
SUMMARY:Worship in person and online.  Fellowship Lunch
DESCRIPTION:
URL:https://knoxvkh.ca/event/worship-in-person-and-online-fellowship-lunch-3/
END:VEVENT
BEGIN:VEVENT
DTSTART;TZID=UTC:20240907T080000
DTEND;TZID=UTC:20240907T170000
DTSTAMP:20260419T210510
CREATED:20240531T181639Z
LAST-MODIFIED:20240531T181726Z
UID:3569-1725696000-1725728400@knoxvkh.ca
SUMMARY:Men's Prayer Breakfast  8:00am
DESCRIPTION:
URL:https://knoxvkh.ca/event/mens-prayer-breakfast-4/
END:VEVENT
BEGIN:VEVENT
DTSTART;TZID=UTC:20240903T130000
DTEND;TZID=UTC:20240903T140000
DTSTAMP:20260419T210510
CREATED:20240531T180948Z
LAST-MODIFIED:20240531T180948Z
UID:3564-1725368400-1725372000@knoxvkh.ca
SUMMARY:Heritage Lodge Worship
DESCRIPTION:
URL:https://knoxvkh.ca/event/heritage-lodge-worship-6/
END:VEVENT
BEGIN:VEVENT
DTSTART;TZID=UTC:20240901T110000
DTEND;TZID=UTC:20240901T123000
DTSTAMP:20260419T210510
CREATED:20240531T180449Z
LAST-MODIFIED:20240531T180449Z
UID:3561-1725188400-1725193800@knoxvkh.ca
SUMMARY:Worship in person and online
DESCRIPTION:
URL:https://knoxvkh.ca/event/worship-in-person-and-online-45/
END:VEVENT
BEGIN:VEVENT
DTSTART;TZID=UTC:20240825T100000
DTEND;TZID=UTC:20240825T233000
DTSTAMP:20260419T210510
CREATED:20240531T175606Z
LAST-MODIFIED:20240531T180119Z
UID:3557-1724580000-1724628600@knoxvkh.ca
SUMMARY:ST Paul's Anniversary   Knox will be closed
DESCRIPTION:
URL:https://knoxvkh.ca/event/worship-in-person-and-online-44/
END:VEVENT
BEGIN:VEVENT
DTSTART;TZID=UTC:20240818T110000
DTEND;TZID=UTC:20240818T123000
DTSTAMP:20260419T210510
CREATED:20240531T175411Z
LAST-MODIFIED:20240531T175411Z
UID:3556-1723978800-1723984200@knoxvkh.ca
SUMMARY:Worship in person and online.  Summer Communion
DESCRIPTION:
URL:https://knoxvkh.ca/event/worship-in-person-and-online-summer-communion/
END:VEVENT
BEGIN:VEVENT
DTSTART;TZID=UTC:20240811T110000
DTEND;TZID=UTC:20240811T140000
DTSTAMP:20260419T210510
CREATED:20240531T174950Z
LAST-MODIFIED:20240531T174950Z
UID:3553-1723374000-1723384800@knoxvkh.ca
SUMMARY:Worship in person and online.  Fellowship Lunch
DESCRIPTION:
URL:https://knoxvkh.ca/event/worship-in-person-and-online-fellowship-lunch-2/
END:VEVENT
BEGIN:VEVENT
DTSTART;TZID=UTC:20240804T110000
DTEND;TZID=UTC:20240804T123000
DTSTAMP:20260419T210510
CREATED:20240531T174259Z
LAST-MODIFIED:20240531T174259Z
UID:3551-1722769200-1722774600@knoxvkh.ca
SUMMARY:Worship in person and online
DESCRIPTION:
URL:https://knoxvkh.ca/event/worship-in-person-and-online-43/
END:VEVENT
BEGIN:VEVENT
DTSTART;TZID=UTC:20240728T110000
DTEND;TZID=UTC:20240728T140000
DTSTAMP:20260419T210510
CREATED:20240531T164534Z
LAST-MODIFIED:20240531T164534Z
UID:3542-1722164400-1722175200@knoxvkh.ca
SUMMARY:Worship in person and online
DESCRIPTION:
URL:https://knoxvkh.ca/event/worship-in-person-and-online-42/
END:VEVENT
BEGIN:VEVENT
DTSTART;VALUE=DATE:20240722
DTEND;VALUE=DATE:20240727
DTSTAMP:20260419T210510
CREATED:20240531T170132Z
LAST-MODIFIED:20240603T141918Z
UID:3546-1721606400-1722038399@knoxvkh.ca
SUMMARY:SCUBA  VBS  Stay Tuned for more info.  July 22-26
DESCRIPTION:SCUBA Vacation Bible School \nKnox church\, Vankleek Hill \nJuly 22-26            9:30 – noon \nAges:   Completed JK – Gr. 6 \nContact Doreen 613 678 3519
URL:https://knoxvkh.ca/event/scuba-vbs-stay-tuned-for-more-info-july-22-26/
END:VEVENT
BEGIN:VEVENT
DTSTART;TZID=UTC:20240721T110000
DTEND;TZID=UTC:20240721T123000
DTSTAMP:20260419T210510
CREATED:20240531T164205Z
LAST-MODIFIED:20240531T164205Z
UID:3540-1721559600-1721565000@knoxvkh.ca
SUMMARY:Worship in person and online
DESCRIPTION:
URL:https://knoxvkh.ca/event/worship-in-person-and-online-41/
END:VEVENT
BEGIN:VEVENT
DTSTART;TZID=UTC:20240714T110000
DTEND;TZID=UTC:20240714T133000
DTSTAMP:20260419T210510
CREATED:20240531T163826Z
LAST-MODIFIED:20240531T163959Z
UID:3536-1720954800-1720963800@knoxvkh.ca
SUMMARY:Worship in person and online  11:00am  Fellowship Lunch
DESCRIPTION:
URL:https://knoxvkh.ca/event/worship-in-person-and-online-1100am/
END:VEVENT
BEGIN:VEVENT
DTSTART;TZID=UTC:20240707T100000
DTEND;TZID=UTC:20240707T123000
DTSTAMP:20260419T210510
CREATED:20240531T165044Z
LAST-MODIFIED:20240531T165044Z
UID:3544-1720346400-1720355400@knoxvkh.ca
SUMMARY:Worship online and in person
DESCRIPTION:
URL:https://knoxvkh.ca/event/worship-online-and-in-person/
END:VEVENT
BEGIN:VEVENT
DTSTART;TZID=UTC:20240706T080000
DTEND;TZID=UTC:20240706T100000
DTSTAMP:20260419T210510
CREATED:20240531T163513Z
LAST-MODIFIED:20240531T163513Z
UID:3533-1720252800-1720260000@knoxvkh.ca
SUMMARY:Men's Prayer Breakfast 8 am
DESCRIPTION:
URL:https://knoxvkh.ca/event/mens-prayer-breakfast-8-am/
END:VEVENT
BEGIN:VEVENT
DTSTART;TZID=UTC:20240630T110000
DTEND;TZID=UTC:20240630T120000
DTSTAMP:20260419T210510
CREATED:20240504T151632Z
LAST-MODIFIED:20240504T151632Z
UID:3527-1719745200-1719748800@knoxvkh.ca
SUMMARY:Worship in Person and Online
DESCRIPTION:
URL:https://knoxvkh.ca/event/worship-in-person-and-online-39/
END:VEVENT
BEGIN:VEVENT
DTSTART;VALUE=DATE:20240628
DTEND;VALUE=DATE:20240629
DTSTAMP:20260419T210510
CREATED:20240504T151126Z
LAST-MODIFIED:20240504T151126Z
UID:3525-1719532800-1719619199@knoxvkh.ca
SUMMARY:Drive-Thru Chicken Dinner  Knox  $20  ~Tickets in Advance Only.
DESCRIPTION:
URL:https://knoxvkh.ca/event/drive-thru-chicken-dinner-knox-20-tickets-in-advance-only/
END:VEVENT
END:VCALENDAR