BEGIN:VCALENDAR
VERSION:2.0
PRODID:-//Knox Presbyterian Church - ECPv6.6.4.2//NONSGML v1.0//EN
CALSCALE:GREGORIAN
METHOD:PUBLISH
X-WR-CALNAME:Knox Presbyterian Church
X-ORIGINAL-URL:https://knoxvkh.ca
X-WR-CALDESC:Events for Knox Presbyterian Church
REFRESH-INTERVAL;VALUE=DURATION:PT1H
X-Robots-Tag:noindex
X-PUBLISHED-TTL:PT1H
BEGIN:VTIMEZONE
TZID:UTC
BEGIN:STANDARD
TZOFFSETFROM:+0000
TZOFFSETTO:+0000
TZNAME:UTC
DTSTART:20230101T000000
END:STANDARD
END:VTIMEZONE
BEGIN:VEVENT
DTSTART;TZID=UTC:20240225T110000
DTEND;TZID=UTC:20240225T140000
DTSTAMP:20260420T211805
CREATED:20240217T175407Z
LAST-MODIFIED:20240217T175407Z
UID:3417-1708858800-1708869600@knoxvkh.ca
SUMMARY:Lent 2
DESCRIPTION:
URL:https://knoxvkh.ca/event/lent-2/
END:VEVENT
BEGIN:VEVENT
DTSTART;TZID=UTC:20240224T080000
DTEND;TZID=UTC:20240224T120000
DTSTAMP:20260420T211805
CREATED:20240217T172024Z
LAST-MODIFIED:20240217T175018Z
UID:3413-1708761600-1708776000@knoxvkh.ca
SUMMARY:Women's Prayer Breakfast & Bible Study
DESCRIPTION:Ladies please join us Saturday February 24 at 8am. \nReserve with Mrs. Nathalie Bercier 613.677.0471   danatbercier@gmail.com
URL:https://knoxvkh.ca/event/womens-prayer-breakfast-bible-study/
END:VEVENT
BEGIN:VEVENT
DTSTART;TZID=UTC:20240218T110000
DTEND;TZID=UTC:20240218T140000
DTSTAMP:20260420T211805
CREATED:20240217T175241Z
LAST-MODIFIED:20240217T175241Z
UID:3415-1708254000-1708264800@knoxvkh.ca
SUMMARY:Lent 1
DESCRIPTION:
URL:https://knoxvkh.ca/event/lent-1/
END:VEVENT
BEGIN:VEVENT
DTSTART;TZID=UTC:20240217T110000
DTEND;TZID=UTC:20240217T140000
DTSTAMP:20260420T211805
CREATED:20240217T180236Z
LAST-MODIFIED:20240217T180236Z
UID:3423-1708167600-1708178400@knoxvkh.ca
SUMMARY:Lent 5
DESCRIPTION:
URL:https://knoxvkh.ca/event/lent-5-2/
END:VEVENT
BEGIN:VEVENT
DTSTART;TZID=UTC:20240103T110000
DTEND;TZID=UTC:20240103T120000
DTSTAMP:20260420T211805
CREATED:20231210T224749Z
LAST-MODIFIED:20231210T224749Z
UID:3400-1704279600-1704283200@knoxvkh.ca
SUMMARY:Family Skating Party  at the Vankleek Hill Arena followed by lunch at the church hall. Everyone is welcome to attend and bring a friend
DESCRIPTION:
URL:https://knoxvkh.ca/event/family-skating-party-at-the-vankleek-hill-arena-followed-by-lunch-at-the-church-hall-everyone-is-welcome-to-attend-and-bring-a-friend/
END:VEVENT
BEGIN:VEVENT
DTSTART;TZID=UTC:20231230T120000
DTEND;TZID=UTC:20231230T150000
DTSTAMP:20260420T211805
CREATED:20231210T225106Z
LAST-MODIFIED:20231210T225106Z
UID:3402-1703937600-1703948400@knoxvkh.ca
SUMMARY:Christmas meal for folks who are alone. To register speak or call Natalie @ 613-677-0471
DESCRIPTION:
URL:https://knoxvkh.ca/event/christmas-meal-for-folks-who-are-alone-to-register-speak-or-call-natalie-613-677-0471/
END:VEVENT
BEGIN:VEVENT
DTSTART;TZID=UTC:20231228T190000
DTEND;TZID=UTC:20231228T220000
DTSTAMP:20260420T211805
CREATED:20230831T204722Z
LAST-MODIFIED:20230831T204722Z
UID:3349-1703790000-1703800800@knoxvkh.ca
SUMMARY:Alcoholics Anonymous. For anyone who wants to stop drinking. For further info contact hilltopslippersvkh@gmail.com
DESCRIPTION:
URL:https://knoxvkh.ca/event/alcoholics-anonymous-for-anyone-who-wants-to-stop-drinking-for-further-info-contact-hilltopslippersvkhgmail-com-22/
END:VEVENT
BEGIN:VEVENT
DTSTART;TZID=UTC:20231225T110000
DTEND;TZID=UTC:20231225T133000
DTSTAMP:20260420T211805
CREATED:20231018T174552Z
LAST-MODIFIED:20231018T175157Z
UID:3383-1703502000-1703511000@knoxvkh.ca
SUMMARY:Carols & Scripture w/ Hot cider!!
DESCRIPTION:
URL:https://knoxvkh.ca/event/soup-sandwich-and-bake-sale-11-130/
END:VEVENT
BEGIN:VEVENT
DTSTART;TZID=UTC:20231224T190000
DTEND;TZID=UTC:20231224T203000
DTSTAMP:20260420T211805
CREATED:20230901T162929Z
LAST-MODIFIED:20230901T162929Z
UID:3366-1703444400-1703449800@knoxvkh.ca
SUMMARY:Christmas Eve
DESCRIPTION:
URL:https://knoxvkh.ca/event/christmas-eve/
END:VEVENT
BEGIN:VEVENT
DTSTART;TZID=UTC:20231224T110000
DTEND;TZID=UTC:20231224T120000
DTSTAMP:20260420T211805
CREATED:20230901T162740Z
LAST-MODIFIED:20230901T162740Z
UID:3364-1703415600-1703419200@knoxvkh.ca
SUMMARY:Worship   Advent 4
DESCRIPTION:
URL:https://knoxvkh.ca/event/worship-advent-4/
END:VEVENT
BEGIN:VEVENT
DTSTART;TZID=UTC:20231221T190000
DTEND;TZID=UTC:20231221T220000
DTSTAMP:20260420T211805
CREATED:20230831T204314Z
LAST-MODIFIED:20230831T204314Z
UID:3347-1703185200-1703196000@knoxvkh.ca
SUMMARY:Alcoholics Anonymous. For anyone who wants to stop drinking. For further info contact hilltopslippersvkh@gmail.com
DESCRIPTION:
URL:https://knoxvkh.ca/event/alcoholics-anonymous-for-anyone-who-wants-to-stop-drinking-for-further-info-contact-hilltopslippersvkhgmail-com-20/
END:VEVENT
BEGIN:VEVENT
DTSTART;TZID=UTC:20231217T130000
DTEND;TZID=UTC:20231217T170000
DTSTAMP:20260420T211805
CREATED:20231210T225458Z
LAST-MODIFIED:20231210T225458Z
UID:3404-1702818000-1702832400@knoxvkh.ca
SUMMARY:The Genesis Coop is presenting a Living Nativity at the Vankleek Hill Fair Grounds
DESCRIPTION:
URL:https://knoxvkh.ca/event/the-genesis-coop-is-presenting-a-living-nativity-at-the-vankleek-hill-fair-grounds/
END:VEVENT
BEGIN:VEVENT
DTSTART;TZID=UTC:20231217T110000
DTEND;TZID=UTC:20231217T120000
DTSTAMP:20260420T211805
CREATED:20230901T162558Z
LAST-MODIFIED:20231109T170422Z
UID:3362-1702810800-1702814400@knoxvkh.ca
SUMMARY:Worship  Advent 3  Pageant TODAY!
DESCRIPTION:
URL:https://knoxvkh.ca/event/worship-advent-3/
END:VEVENT
BEGIN:VEVENT
DTSTART;TZID=UTC:20231214T190000
DTEND;TZID=UTC:20231214T220000
DTSTAMP:20260420T211805
CREATED:20230831T204454Z
LAST-MODIFIED:20230831T204533Z
UID:3350-1702580400-1702591200@knoxvkh.ca
SUMMARY:Alcoholics Anonymous. For anyone who wants to stop drinking. For further info contact hilltopslippersvkh@gmail.com
DESCRIPTION:
URL:https://knoxvkh.ca/event/alcoholics-anonymous-for-anyone-who-wants-to-stop-drinking-for-further-info-contact-hilltopslippersvkhgmail-com-21/
END:VEVENT
BEGIN:VEVENT
DTSTART;TZID=UTC:20231211T100000
DTEND;TZID=UTC:20231211T120000
DTSTAMP:20260420T211805
CREATED:20231210T225642Z
LAST-MODIFIED:20231210T225642Z
UID:3406-1702288800-1702296000@knoxvkh.ca
SUMMARY:Ladies Aid
DESCRIPTION:
URL:https://knoxvkh.ca/event/ladies-aid-2/
END:VEVENT
BEGIN:VEVENT
DTSTART;TZID=UTC:20231210T100000
DTEND;TZID=UTC:20231210T120000
DTSTAMP:20260420T211805
CREATED:20230901T162500Z
LAST-MODIFIED:20230901T163323Z
UID:3360-1702202400-1702209600@knoxvkh.ca
SUMMARY:Worship  Advent 2             Fellowship Lunch   Everyone is welcome
DESCRIPTION:
URL:https://knoxvkh.ca/event/worship-advent-2-fellowship-lunch-everyone-is-welcome/
END:VEVENT
BEGIN:VEVENT
DTSTART;TZID=UTC:20231207T190000
DTEND;TZID=UTC:20231207T220000
DTSTAMP:20260420T211805
CREATED:20230831T204126Z
LAST-MODIFIED:20230831T204127Z
UID:3345-1701975600-1701986400@knoxvkh.ca
SUMMARY:Alcoholics Anonymous. For anyone who wants to stop drinking. For further info contact hilltopslippersvkh@gmail.com
DESCRIPTION:
URL:https://knoxvkh.ca/event/alcoholics-anonymous-for-anyone-who-wants-to-stop-drinking-for-further-info-contact-hilltopslippersvkhgmail-com-19/
END:VEVENT
BEGIN:VEVENT
DTSTART;TZID=UTC:20231205T173000
DTEND;TZID=UTC:20231205T193000
DTSTAMP:20260420T211805
CREATED:20230901T162305Z
LAST-MODIFIED:20230901T162305Z
UID:3358-1701797400-1701804600@knoxvkh.ca
SUMMARY:Messy Church
DESCRIPTION:
URL:https://knoxvkh.ca/event/messy-church-2/
END:VEVENT
BEGIN:VEVENT
DTSTART;VALUE=DATE:20231205
DTEND;VALUE=DATE:20231206
DTSTAMP:20260420T211805
CREATED:20230901T163927Z
LAST-MODIFIED:20230901T163927Z
UID:3374-1701734400-1701820799@knoxvkh.ca
SUMMARY:Heritage Lodge Worship  1pm
DESCRIPTION:
URL:https://knoxvkh.ca/event/heritage-lodge-worship-1pm-4/
END:VEVENT
BEGIN:VEVENT
DTSTART;TZID=UTC:20231203T110000
DTEND;TZID=UTC:20231203T120000
DTSTAMP:20260420T211805
CREATED:20230831T205206Z
LAST-MODIFIED:20230831T205206Z
UID:3354-1701601200-1701604800@knoxvkh.ca
SUMMARY:Worship  Advent 1~ Communion
DESCRIPTION:
URL:https://knoxvkh.ca/event/worship-advent-1-communion/
END:VEVENT
BEGIN:VEVENT
DTSTART;TZID=UTC:20231202T080000
DTEND;TZID=UTC:20231202T100000
DTSTAMP:20260420T211805
CREATED:20230831T205358Z
LAST-MODIFIED:20230831T205358Z
UID:3356-1701504000-1701511200@knoxvkh.ca
SUMMARY:Men's Prayer Breakfast
DESCRIPTION:
URL:https://knoxvkh.ca/event/mens-prayer-breakfast-2/
END:VEVENT
BEGIN:VEVENT
DTSTART;TZID=UTC:20231130T190000
DTEND;TZID=UTC:20231130T220000
DTSTAMP:20260420T211805
CREATED:20230831T203607Z
LAST-MODIFIED:20230831T203607Z
UID:3343-1701370800-1701381600@knoxvkh.ca
SUMMARY:Alcoholics Anonymous. For anyone who wants to stop drinking. For further info contact hilltopslippersvkh@gmail.com
DESCRIPTION:
URL:https://knoxvkh.ca/event/alcoholics-anonymous-for-anyone-who-wants-to-stop-drinking-for-further-info-contact-hilltopslippersvkhgmail-com-18/
END:VEVENT
BEGIN:VEVENT
DTSTART;TZID=UTC:20231126T110000
DTEND;TZID=UTC:20231126T120000
DTSTAMP:20260420T211805
CREATED:20230831T202044Z
LAST-MODIFIED:20230831T202243Z
UID:3333-1700996400-1701000000@knoxvkh.ca
SUMMARY:Worship
DESCRIPTION:Worship
URL:https://knoxvkh.ca/event/worship-32/
END:VEVENT
BEGIN:VEVENT
DTSTART;TZID=UTC:20231123T190000
DTEND;TZID=UTC:20231123T220000
DTSTAMP:20260420T211805
CREATED:20230831T203312Z
LAST-MODIFIED:20230831T203312Z
UID:3341-1700766000-1700776800@knoxvkh.ca
SUMMARY:Alcoholics Anonymous. For anyone who wants to stop drinking. For further info contact hilltopslippersvkh@gmail.com
DESCRIPTION:
URL:https://knoxvkh.ca/event/alcoholics-anonymous-for-anyone-who-wants-to-stop-drinking-for-further-info-contact-hilltopslippersvkhgmail-com-17/
END:VEVENT
BEGIN:VEVENT
DTSTART;TZID=UTC:20231119T110000
DTEND;TZID=UTC:20231119T120000
DTSTAMP:20260420T211805
CREATED:20230831T201919Z
LAST-MODIFIED:20230831T201919Z
UID:3331-1700391600-1700395200@knoxvkh.ca
SUMMARY:Worship
DESCRIPTION:
URL:https://knoxvkh.ca/event/worship-31/
END:VEVENT
BEGIN:VEVENT
DTSTART;TZID=UTC:20231116T190000
DTEND;TZID=UTC:20231116T220000
DTSTAMP:20260420T211805
CREATED:20230831T203149Z
LAST-MODIFIED:20230831T203149Z
UID:3339-1700161200-1700172000@knoxvkh.ca
SUMMARY:Alcoholics Anonymous. For anyone who wants to stop drinking. For further info contact hilltopslippersvkh@gmail.com
DESCRIPTION:
URL:https://knoxvkh.ca/event/alcoholics-anonymous-for-anyone-who-wants-to-stop-drinking-for-further-info-contact-hilltopslippersvkhgmail-com-16/
END:VEVENT
BEGIN:VEVENT
DTSTART;TZID=UTC:20231112T110000
DTEND;TZID=UTC:20231112T150000
DTSTAMP:20260420T211805
CREATED:20230831T201225Z
LAST-MODIFIED:20230831T201651Z
UID:3326-1699786800-1699801200@knoxvkh.ca
SUMMARY:Worship~Deadline for Samaritan's Purse Boxes ~ Blessing of Boxes ~Fellowship Lunch
DESCRIPTION:
URL:https://knoxvkh.ca/event/deadline-for-samaritans-purse-boxes/
END:VEVENT
BEGIN:VEVENT
DTSTART;VALUE=DATE:20231111
DTEND;VALUE=DATE:20231112
DTSTAMP:20260420T211805
CREATED:20230831T201030Z
LAST-MODIFIED:20230831T201030Z
UID:3323-1699660800-1699747199@knoxvkh.ca
SUMMARY:Book Sale
DESCRIPTION:
URL:https://knoxvkh.ca/event/book-sale-15/
END:VEVENT
BEGIN:VEVENT
DTSTART;TZID=UTC:20231110T190000
DTEND;TZID=UTC:20231110T220000
DTSTAMP:20260420T211805
CREATED:20230831T200655Z
LAST-MODIFIED:20230831T200655Z
UID:3319-1699642800-1699653600@knoxvkh.ca
SUMMARY:Samaritan's Purse Packing Party
DESCRIPTION:
URL:https://knoxvkh.ca/event/samaritans-purse-packing-party/
END:VEVENT
BEGIN:VEVENT
DTSTART;VALUE=DATE:20231110
DTEND;VALUE=DATE:20231111
DTSTAMP:20260420T211805
CREATED:20230831T200917Z
LAST-MODIFIED:20230831T200917Z
UID:3321-1699574400-1699574400@knoxvkh.ca
SUMMARY:Book Sale
DESCRIPTION:
URL:https://knoxvkh.ca/event/book-sale-14/
END:VEVENT
END:VCALENDAR