BEGIN:VCALENDAR
VERSION:2.0
PRODID:-//Knox Presbyterian Church - ECPv6.6.4.2//NONSGML v1.0//EN
CALSCALE:GREGORIAN
METHOD:PUBLISH
X-WR-CALNAME:Knox Presbyterian Church
X-ORIGINAL-URL:https://knoxvkh.ca
X-WR-CALDESC:Events for Knox Presbyterian Church
REFRESH-INTERVAL;VALUE=DURATION:PT1H
X-Robots-Tag:noindex
X-PUBLISHED-TTL:PT1H
BEGIN:VTIMEZONE
TZID:UTC
BEGIN:STANDARD
TZOFFSETFROM:+0000
TZOFFSETTO:+0000
TZNAME:UTC
DTSTART:20230101T000000
END:STANDARD
END:VTIMEZONE
BEGIN:VEVENT
DTSTART;TZID=UTC:20231110T190000
DTEND;TZID=UTC:20231110T220000
DTSTAMP:20260421T031836
CREATED:20230831T200655Z
LAST-MODIFIED:20230831T200655Z
UID:3319-1699642800-1699653600@knoxvkh.ca
SUMMARY:Samaritan's Purse Packing Party
DESCRIPTION:
URL:https://knoxvkh.ca/event/samaritans-purse-packing-party/
END:VEVENT
BEGIN:VEVENT
DTSTART;VALUE=DATE:20231110
DTEND;VALUE=DATE:20231111
DTSTAMP:20260421T031836
CREATED:20230831T200917Z
LAST-MODIFIED:20230831T200917Z
UID:3321-1699574400-1699574400@knoxvkh.ca
SUMMARY:Book Sale
DESCRIPTION:
URL:https://knoxvkh.ca/event/book-sale-14/
END:VEVENT
BEGIN:VEVENT
DTSTART;TZID=UTC:20231109T190000
DTEND;TZID=UTC:20231109T220000
DTSTAMP:20260421T031836
CREATED:20230831T202830Z
LAST-MODIFIED:20230831T202830Z
UID:3337-1699556400-1699567200@knoxvkh.ca
SUMMARY:Alcoholics Anonymous. For anyone who wants to stop drinking. For further info contact hilltopslippersvkh@gmail.com
DESCRIPTION:
URL:https://knoxvkh.ca/event/alcoholics-anonymous-for-anyone-who-wants-to-stop-drinking-for-further-info-contact-hilltopslippersvkhgmail-com-15/
END:VEVENT
BEGIN:VEVENT
DTSTART;VALUE=DATE:20231107
DTEND;VALUE=DATE:20231108
DTSTAMP:20260421T031836
CREATED:20230901T163759Z
LAST-MODIFIED:20230901T163759Z
UID:3372-1699315200-1699401599@knoxvkh.ca
SUMMARY:Heritage Lodge Worship  1pm
DESCRIPTION:
URL:https://knoxvkh.ca/event/heritage-lodge-worship-1pm-3/
END:VEVENT
BEGIN:VEVENT
DTSTART;TZID=UTC:20231105T110000
DTEND;TZID=UTC:20231105T110000
DTSTAMP:20260421T031836
CREATED:20230831T195212Z
LAST-MODIFIED:20230831T195354Z
UID:3313-1699182000-1699182000@knoxvkh.ca
SUMMARY:Worship  Remembrance Day ~ Change Time....Fall Back
DESCRIPTION:
URL:https://knoxvkh.ca/event/worship-remembrance-day/
END:VEVENT
BEGIN:VEVENT
DTSTART;TZID=UTC:20231104T080000
DTEND;TZID=UTC:20231104T080000
DTSTAMP:20260421T031836
CREATED:20230831T194706Z
LAST-MODIFIED:20230831T194849Z
UID:3311-1699084800-1699084800@knoxvkh.ca
SUMMARY:Men's Prayer Breakfast
DESCRIPTION:
URL:https://knoxvkh.ca/event/mens-prayer-breakfast/
END:VEVENT
BEGIN:VEVENT
DTSTART;VALUE=DATE:20231104
DTEND;VALUE=DATE:20231105
DTSTAMP:20260421T031836
CREATED:20230831T194437Z
LAST-MODIFIED:20230831T194437Z
UID:3309-1699056000-1699142399@knoxvkh.ca
SUMMARY:Book Sale
DESCRIPTION:
URL:https://knoxvkh.ca/event/book-sale-13/
END:VEVENT
BEGIN:VEVENT
DTSTART;VALUE=DATE:20231103
DTEND;VALUE=DATE:20231104
DTSTAMP:20260421T031836
CREATED:20230830T173714Z
LAST-MODIFIED:20230830T173731Z
UID:3307-1698969600-1699055999@knoxvkh.ca
SUMMARY:Book Sale
DESCRIPTION:
URL:https://knoxvkh.ca/event/book-sale-12/
END:VEVENT
BEGIN:VEVENT
DTSTART;TZID=UTC:20231102T190000
DTEND;TZID=UTC:20231102T220000
DTSTAMP:20260421T031836
CREATED:20230831T202634Z
LAST-MODIFIED:20230831T202634Z
UID:3335-1698951600-1698962400@knoxvkh.ca
SUMMARY:Alcoholics Anonymous. For anyone who wants to stop drinking. For further info contact hilltopslippersvkh@gmail.com
DESCRIPTION:
URL:https://knoxvkh.ca/event/alcoholics-anonymous-for-anyone-who-wants-to-stop-drinking-for-further-info-contact-hilltopslippersvkhgmail-com-14/
END:VEVENT
BEGIN:VEVENT
DTSTART;TZID=UTC:20231029T110000
DTEND;TZID=UTC:20231029T120000
DTSTAMP:20260421T031836
CREATED:20230830T172108Z
LAST-MODIFIED:20230830T172108Z
UID:3290-1698577200-1698580800@knoxvkh.ca
SUMMARY:Worship
DESCRIPTION:
URL:https://knoxvkh.ca/event/worship-30/
END:VEVENT
BEGIN:VEVENT
DTSTART;TZID=UTC:20231029T070000
DTEND;TZID=UTC:20231029T210000
DTSTAMP:20260421T031836
CREATED:20230830T173023Z
LAST-MODIFIED:20230830T173254Z
UID:3299-1698562800-1698613200@knoxvkh.ca
SUMMARY:Knox at Night  Offering for Samaritan's Purse
DESCRIPTION:
URL:https://knoxvkh.ca/event/knox-at-night-9/
END:VEVENT
BEGIN:VEVENT
DTSTART;VALUE=DATE:20231028
DTEND;VALUE=DATE:20231029
DTSTAMP:20260421T031837
CREATED:20230830T172535Z
LAST-MODIFIED:20230830T173424Z
UID:3297-1698451200-1698537599@knoxvkh.ca
SUMMARY:Book Sale
DESCRIPTION:
URL:https://knoxvkh.ca/event/book-sale-11/
END:VEVENT
BEGIN:VEVENT
DTSTART;VALUE=DATE:20231027
DTEND;VALUE=DATE:20231028
DTSTAMP:20260421T031837
CREATED:20230830T172423Z
LAST-MODIFIED:20230830T173523Z
UID:3295-1698364800-1698451199@knoxvkh.ca
SUMMARY:Book Sale
DESCRIPTION:
URL:https://knoxvkh.ca/event/book-sale-10/
END:VEVENT
BEGIN:VEVENT
DTSTART;TZID=UTC:20231026T190000
DTEND;TZID=UTC:20231026T220000
DTSTAMP:20260421T031837
CREATED:20230830T165520Z
LAST-MODIFIED:20230830T165520Z
UID:3268-1698346800-1698357600@knoxvkh.ca
SUMMARY:Alcoholics Anonymous. For anyone who wants to stop drinking. For further info contact hilltopslippersvkh@gmail.com
DESCRIPTION:
URL:https://knoxvkh.ca/event/alcoholics-anonymous-for-anyone-who-wants-to-stop-drinking-for-further-info-contact-hilltopslippersvkhgmail-com-13/
END:VEVENT
BEGIN:VEVENT
DTSTART;TZID=UTC:20231022T190000
DTEND;TZID=UTC:20231022T210000
DTSTAMP:20260421T031837
CREATED:20231018T153500Z
LAST-MODIFIED:20231018T153500Z
UID:3381-1698001200-1698008400@knoxvkh.ca
SUMMARY:KNOX @ NIGHT
DESCRIPTION:
URL:https://knoxvkh.ca/event/knox-night/
END:VEVENT
BEGIN:VEVENT
DTSTART;TZID=UTC:20231022T110000
DTEND;TZID=UTC:20231022T150000
DTSTAMP:20260421T031837
CREATED:20231018T153034Z
LAST-MODIFIED:20231018T153236Z
UID:3377-1697972400-1697986800@knoxvkh.ca
SUMMARY:Samaritan's Purse KICK OFF ~~  CROKINOLE
DESCRIPTION:
URL:https://knoxvkh.ca/event/samaritans-purse-kick-off-crokinole/
END:VEVENT
BEGIN:VEVENT
DTSTART;TZID=UTC:20231022T110000
DTEND;TZID=UTC:20231022T120000
DTSTAMP:20260421T031837
CREATED:20230830T171507Z
LAST-MODIFIED:20230830T171507Z
UID:3284-1697972400-1697976000@knoxvkh.ca
SUMMARY:Worship
DESCRIPTION:
URL:https://knoxvkh.ca/event/worship-29/
END:VEVENT
BEGIN:VEVENT
DTSTART;VALUE=DATE:20231022
DTEND;VALUE=DATE:20231023
DTSTAMP:20260421T031837
CREATED:20230830T172255Z
LAST-MODIFIED:20230830T172255Z
UID:3292-1697932800-1698019199@knoxvkh.ca
SUMMARY:Book Donations are welcome!!!!
DESCRIPTION:
URL:https://knoxvkh.ca/event/book-donations-are-welcome/
END:VEVENT
BEGIN:VEVENT
DTSTART;VALUE=DATE:20231021
DTEND;VALUE=DATE:20231022
DTSTAMP:20260421T031837
CREATED:20230830T170547Z
LAST-MODIFIED:20230830T170547Z
UID:3276-1697846400-1697932799@knoxvkh.ca
SUMMARY:Sunday School Meeting
DESCRIPTION:
URL:https://knoxvkh.ca/event/sunday-school-meeting/
END:VEVENT
BEGIN:VEVENT
DTSTART;TZID=UTC:20231019T190000
DTEND;TZID=UTC:20231019T220000
DTSTAMP:20260421T031837
CREATED:20230830T165301Z
LAST-MODIFIED:20230830T165301Z
UID:3266-1697742000-1697752800@knoxvkh.ca
SUMMARY:Alcoholics Anonymous. For anyone who wants to stop drinking. For further info contact hilltopslippersvkh@gmail.com
DESCRIPTION:
URL:https://knoxvkh.ca/event/alcoholics-anonymous-for-anyone-who-wants-to-stop-drinking-for-further-info-contact-hilltopslippersvkhgmail-com-12/
END:VEVENT
BEGIN:VEVENT
DTSTART;TZID=UTC:20231015T110000
DTEND;TZID=UTC:20231015T120000
DTSTAMP:20260421T031837
CREATED:20230830T171221Z
LAST-MODIFIED:20230830T171221Z
UID:3281-1697367600-1697371200@knoxvkh.ca
SUMMARY:Worship
DESCRIPTION:
URL:https://knoxvkh.ca/event/worship-28/
END:VEVENT
BEGIN:VEVENT
DTSTART;TZID=UTC:20231014T080000
DTEND;TZID=UTC:20231014T170000
DTSTAMP:20260421T031837
CREATED:20230830T170413Z
LAST-MODIFIED:20230830T170413Z
UID:3274-1697270400-1697302800@knoxvkh.ca
SUMMARY:Lay Worship Leader Workshop    Interested speak to Rev James to pre-register
DESCRIPTION:
URL:https://knoxvkh.ca/event/lay-worship-leader-workshop-interested-speak-to-rev-james-to-pre-register/
END:VEVENT
BEGIN:VEVENT
DTSTART;TZID=UTC:20231012T190000
DTEND;TZID=UTC:20231012T220000
DTSTAMP:20260421T031837
CREATED:20230830T165136Z
LAST-MODIFIED:20230830T165136Z
UID:3264-1697137200-1697148000@knoxvkh.ca
SUMMARY:Alcoholics Anonymous. For anyone who wants to stop drinking. For further info contact hilltopslippersvkh@gmail.com
DESCRIPTION:
URL:https://knoxvkh.ca/event/alcoholics-anonymous-for-anyone-who-wants-to-stop-drinking-for-further-info-contact-hilltopslippersvkhgmail-com-11/
END:VEVENT
BEGIN:VEVENT
DTSTART;TZID=UTC:20231008T110000
DTEND;TZID=UTC:20231008T120000
DTSTAMP:20260421T031837
CREATED:20230830T165837Z
LAST-MODIFIED:20230830T170029Z
UID:3270-1696762800-1696766400@knoxvkh.ca
SUMMARY:Worship    Thanksgiving Sunday  Fellowship Lunch
DESCRIPTION:
URL:https://knoxvkh.ca/event/worship-thanksgiving-sunday/
END:VEVENT
BEGIN:VEVENT
DTSTART;TZID=UTC:20231007T080000
DTEND;TZID=UTC:20231007T100000
DTSTAMP:20260421T031837
CREATED:20230830T163852Z
LAST-MODIFIED:20230830T163852Z
UID:3252-1696665600-1696672800@knoxvkh.ca
SUMMARY:Men's Prayer Breakfast  8am
DESCRIPTION:
URL:https://knoxvkh.ca/event/mens-prayer-breakfast-8am/
END:VEVENT
BEGIN:VEVENT
DTSTART;TZID=UTC:20231005T190000
DTEND;TZID=UTC:20231005T220000
DTSTAMP:20260421T031837
CREATED:20230830T165006Z
LAST-MODIFIED:20230830T165006Z
UID:3262-1696532400-1696543200@knoxvkh.ca
SUMMARY:Alcoholics Anonymous. For anyone who wants to stop drinking. For further info contact hilltopslippersvkh@gmail.com
DESCRIPTION:
URL:https://knoxvkh.ca/event/alcoholics-anonymous-for-anyone-who-wants-to-stop-drinking-for-further-info-contact-hilltopslippersvkhgmail-com-10/
END:VEVENT
BEGIN:VEVENT
DTSTART;TZID=UTC:20231003T173000
DTEND;TZID=UTC:20231003T193000
DTSTAMP:20260421T031837
CREATED:20230830T163632Z
LAST-MODIFIED:20230830T163632Z
UID:3250-1696354200-1696361400@knoxvkh.ca
SUMMARY:5:30 pm  MESSY CHURCH
DESCRIPTION:
URL:https://knoxvkh.ca/event/530-pm-messy-church/
END:VEVENT
BEGIN:VEVENT
DTSTART;VALUE=DATE:20231003
DTEND;VALUE=DATE:20231004
DTSTAMP:20260421T031837
CREATED:20230901T163652Z
LAST-MODIFIED:20230901T163652Z
UID:3370-1696291200-1696377599@knoxvkh.ca
SUMMARY:Heritage Lodge Worship  1pm
DESCRIPTION:
URL:https://knoxvkh.ca/event/heritage-lodge-worship-1pm-2/
END:VEVENT
BEGIN:VEVENT
DTSTART;TZID=UTC:20231001T110000
DTEND;TZID=UTC:20231001T120000
DTSTAMP:20260421T031837
CREATED:20230830T163213Z
LAST-MODIFIED:20230830T163213Z
UID:3248-1696158000-1696161600@knoxvkh.ca
SUMMARY:Worship  11am   World Communion Sunday
DESCRIPTION:
URL:https://knoxvkh.ca/event/worship-11am-world-communion-sunday/
END:VEVENT
BEGIN:VEVENT
DTSTART;TZID=UTC:20230928T190000
DTEND;TZID=UTC:20230928T220000
DTSTAMP:20260421T031837
CREATED:20230830T162516Z
LAST-MODIFIED:20230830T162516Z
UID:3239-1695927600-1695938400@knoxvkh.ca
SUMMARY:Alcoholics Anonymous. For anyone who wants to stop drinking. For further info contact hilltopslippersvkh@gmail.com
DESCRIPTION:
URL:https://knoxvkh.ca/event/alcoholics-anonymous-for-anyone-who-wants-to-stop-drinking-for-further-info-contact-hilltopslippersvkhgmail-com-9/
END:VEVENT
END:VCALENDAR