BEGIN:VCALENDAR
VERSION:2.0
PRODID:-//Knox Presbyterian Church - ECPv6.6.4.2//NONSGML v1.0//EN
CALSCALE:GREGORIAN
METHOD:PUBLISH
X-WR-CALNAME:Knox Presbyterian Church
X-ORIGINAL-URL:https://knoxvkh.ca
X-WR-CALDESC:Events for Knox Presbyterian Church
REFRESH-INTERVAL;VALUE=DURATION:PT1H
X-Robots-Tag:noindex
X-PUBLISHED-TTL:PT1H
BEGIN:VTIMEZONE
TZID:UTC
BEGIN:STANDARD
TZOFFSETFROM:+0000
TZOFFSETTO:+0000
TZNAME:UTC
DTSTART:20230101T000000
END:STANDARD
END:VTIMEZONE
BEGIN:VEVENT
DTSTART;TZID=UTC:20230924T110000
DTEND;TZID=UTC:20230924T120000
DTSTAMP:20260421T193822
CREATED:20230830T164715Z
LAST-MODIFIED:20230830T164715Z
UID:3260-1695553200-1695556800@knoxvkh.ca
SUMMARY:Worship
DESCRIPTION:
URL:https://knoxvkh.ca/event/worship-27/
END:VEVENT
BEGIN:VEVENT
DTSTART;TZID=UTC:20230921T190000
DTEND;TZID=UTC:20230921T220000
DTSTAMP:20260421T193822
CREATED:20230830T162246Z
LAST-MODIFIED:20230830T162246Z
UID:3237-1695322800-1695333600@knoxvkh.ca
SUMMARY:Alcoholics Anonymous. For anyone who wants to stop drinking. For further info contact hilltopslippersvkh@gmail.com
DESCRIPTION:
URL:https://knoxvkh.ca/event/alcoholics-anonymous-for-anyone-who-wants-to-stop-drinking-for-further-info-contact-hilltopslippersvkhgmail-com-8/
END:VEVENT
BEGIN:VEVENT
DTSTART;TZID=UTC:20230917T110000
DTEND;TZID=UTC:20230917T120000
DTSTAMP:20260421T193822
CREATED:20230830T164334Z
LAST-MODIFIED:20230830T164334Z
UID:3254-1694948400-1694952000@knoxvkh.ca
SUMMARY:Worship
DESCRIPTION:
URL:https://knoxvkh.ca/event/worship-25/
END:VEVENT
BEGIN:VEVENT
DTSTART;TZID=UTC:20230914T190000
DTEND;TZID=UTC:20230914T220000
DTSTAMP:20260421T193822
CREATED:20230830T162145Z
LAST-MODIFIED:20230830T162145Z
UID:3235-1694718000-1694728800@knoxvkh.ca
SUMMARY:Alcoholics Anonymous. For anyone who wants to stop drinking. For further info contact hilltopslippersvkh@gmail.com
DESCRIPTION:
URL:https://knoxvkh.ca/event/alcoholics-anonymous-for-anyone-who-wants-to-stop-drinking-for-further-info-contact-hilltopslippersvkhgmail-com-7/
END:VEVENT
BEGIN:VEVENT
DTSTART;TZID=UTC:20230910T110000
DTEND;TZID=UTC:20230910T143000
DTSTAMP:20260421T193822
CREATED:20230830T160646Z
LAST-MODIFIED:20230830T160646Z
UID:3229-1694343600-1694356200@knoxvkh.ca
SUMMARY:Worship  11am    Fellowship Lunch  What are you bringing?
DESCRIPTION:
URL:https://knoxvkh.ca/event/worship-11am-fellowship-lunch-what-are-you-bringing/
END:VEVENT
BEGIN:VEVENT
DTSTART;TZID=UTC:20230907T190000
DTEND;TZID=UTC:20230907T220000
DTSTAMP:20260421T193822
CREATED:20230830T161934Z
LAST-MODIFIED:20230830T161934Z
UID:3233-1694113200-1694124000@knoxvkh.ca
SUMMARY:Alcoholics Anonymous. For anyone who wants to stop drinking. For further info contact hilltopslippersvkh@gmail.com
DESCRIPTION:
URL:https://knoxvkh.ca/event/alcoholics-anonymous-for-anyone-who-wants-to-stop-drinking-for-further-info-contact-hilltopslippersvkhgmail-com-4/
END:VEVENT
BEGIN:VEVENT
DTSTART;VALUE=DATE:20230905
DTEND;VALUE=DATE:20230906
DTSTAMP:20260421T193822
CREATED:20230901T163546Z
LAST-MODIFIED:20230901T163546Z
UID:3368-1693872000-1693958399@knoxvkh.ca
SUMMARY:Heritage Lodge Worship 1pm
DESCRIPTION:
URL:https://knoxvkh.ca/event/heritage-lodge-worship-1pm/
END:VEVENT
BEGIN:VEVENT
DTSTART;TZID=UTC:20230903T110000
DTEND;TZID=UTC:20230903T120000
DTSTAMP:20260421T193822
CREATED:20230830T160237Z
LAST-MODIFIED:20230830T160312Z
UID:3226-1693738800-1693742400@knoxvkh.ca
SUMMARY:Worship  11am   Back to School Blessing
DESCRIPTION:
URL:https://knoxvkh.ca/event/worship-11am-back-to-school-blessing/
END:VEVENT
BEGIN:VEVENT
DTSTART;TZID=UTC:20230831T190000
DTEND;TZID=UTC:20230831T220000
DTSTAMP:20260421T193822
CREATED:20230702T194515Z
LAST-MODIFIED:20230702T194515Z
UID:3213-1693508400-1693519200@knoxvkh.ca
SUMMARY:Alcoholics Anonymous.  For anyone who wants to stop drinking. For further info contact hilltopslippersvkh@gmail.com
DESCRIPTION:
URL:https://knoxvkh.ca/event/alcoholics-anonymous-for-anyone-who-wants-to-stop-drinking-for-further-info-contact-hilltopslippersvkhgmail-com-6/
END:VEVENT
BEGIN:VEVENT
DTSTART;TZID=UTC:20230827T110000
DTEND;TZID=UTC:20230827T120000
DTSTAMP:20260421T193822
CREATED:20230830T164458Z
LAST-MODIFIED:20230830T164458Z
UID:3256-1693134000-1693137600@knoxvkh.ca
SUMMARY:Worship
DESCRIPTION:
URL:https://knoxvkh.ca/event/worship-26/
END:VEVENT
BEGIN:VEVENT
DTSTART;TZID=UTC:20230827T093000
DTEND;TZID=UTC:20230827T103000
DTSTAMP:20260421T193822
CREATED:20230702T190424Z
LAST-MODIFIED:20230702T190424Z
UID:3194-1693128600-1693132200@knoxvkh.ca
SUMMARY:St. Paul's Anniversary at 9:30am   Knox CLOSED
DESCRIPTION:
URL:https://knoxvkh.ca/event/st-pauls-anniversary-at-930am-knox-closed/
END:VEVENT
BEGIN:VEVENT
DTSTART;TZID=UTC:20230824T190000
DTEND;TZID=UTC:20230824T220000
DTSTAMP:20260421T193822
CREATED:20230702T194413Z
LAST-MODIFIED:20230702T194413Z
UID:3211-1692903600-1692914400@knoxvkh.ca
SUMMARY:Alcoholics Anonymous.  For anyone who wants to stop drinking. For further info contact hilltopslippersvkh@gmail.com
DESCRIPTION:
URL:https://knoxvkh.ca/event/alcoholics-anonymous-for-anyone-who-wants-to-stop-drinking-for-further-info-contact-hilltopslippersvkhgmail-com-5/
END:VEVENT
BEGIN:VEVENT
DTSTART;TZID=UTC:20230817T190000
DTEND;TZID=UTC:20230817T220000
DTSTAMP:20260421T193822
CREATED:20230702T194135Z
LAST-MODIFIED:20230702T194135Z
UID:3207-1692298800-1692309600@knoxvkh.ca
SUMMARY:Alcoholics Anonymous.  For anyone who wants to stop drinking. For further info contact hilltopslippersvkh@gmail.com
DESCRIPTION:
URL:https://knoxvkh.ca/event/alcoholics-anonymous-for-anyone-who-wants-to-stop-drinking-for-further-info-contact-hilltopslippersvkhgmail-com-3/
END:VEVENT
BEGIN:VEVENT
DTSTART;TZID=UTC:20230810T190000
DTEND;TZID=UTC:20230810T220000
DTSTAMP:20260421T193822
CREATED:20230702T193954Z
LAST-MODIFIED:20230702T193954Z
UID:3205-1691694000-1691704800@knoxvkh.ca
SUMMARY:Alcoholics Anonymous.  For anyone who wants to stop drinking. For further info contact hilltopslippersvkh@gmail.com
DESCRIPTION:
URL:https://knoxvkh.ca/event/alcoholics-anonymous-for-anyone-who-wants-to-stop-drinking-for-further-info-contact-hilltopslippersvkhgmail-com-2/
END:VEVENT
BEGIN:VEVENT
DTSTART;TZID=UTC:20230803T190000
DTEND;TZID=UTC:20230803T220000
DTSTAMP:20260421T193822
CREATED:20230702T193757Z
LAST-MODIFIED:20230702T193757Z
UID:3203-1691089200-1691100000@knoxvkh.ca
SUMMARY:Alcoholics Anonymous.  For anyone who wants to stop drinking. For further info contact hilltopslippersvkh@gmail.com
DESCRIPTION:
URL:https://knoxvkh.ca/event/alcoholics-anonymous-for-anyone-who-wants-to-stop-drinking-for-further-info-contact-hilltopslippersvkhgmail-com/
END:VEVENT
BEGIN:VEVENT
DTSTART;TZID=UTC:20230730T110000
DTEND;TZID=UTC:20230730T120000
DTSTAMP:20260421T193822
CREATED:20230702T200115Z
LAST-MODIFIED:20230702T200115Z
UID:3221-1690714800-1690718400@knoxvkh.ca
SUMMARY:Worship in person and Online
DESCRIPTION:
URL:https://knoxvkh.ca/event/worship-in-person-and-online-32/
END:VEVENT
BEGIN:VEVENT
DTSTART;TZID=UTC:20230727T190000
DTEND;TZID=UTC:20230727T220000
DTSTAMP:20260421T193822
CREATED:20230421T184501Z
LAST-MODIFIED:20230702T192204Z
UID:3094-1690484400-1690495200@knoxvkh.ca
SUMMARY:Alcoholics Anonymous   7pm.  For anyone who wants to stop drinking. For further info contact hilltopslippersvkh@gmail.com
DESCRIPTION:
URL:https://knoxvkh.ca/event/alcoholics-anonymous-7pm-for-anyone-who-wants-to-stop-drinking-for-further-info-contact-hilltopslippersvkhgmail-com-14/
END:VEVENT
BEGIN:VEVENT
DTSTART;TZID=UTC:20230724T090000
DTEND;TZID=UTC:20230728T120000
DTSTAMP:20260421T193822
CREATED:20230326T214013Z
LAST-MODIFIED:20230326T214013Z
UID:3027-1690189200-1690545600@knoxvkh.ca
SUMMARY:Stellar ~ Vacation Bible School
DESCRIPTION:SHINE JESUS LIGHT \n 
URL:https://knoxvkh.ca/event/stellar-vacation-bible-school/
END:VEVENT
BEGIN:VEVENT
DTSTART;TZID=UTC:20230723T110000
DTEND;TZID=UTC:20230723T110000
DTSTAMP:20260421T193822
CREATED:20230702T195841Z
LAST-MODIFIED:20230702T195841Z
UID:3219-1690110000-1690110000@knoxvkh.ca
SUMMARY:Worship in person and Online
DESCRIPTION:
URL:https://knoxvkh.ca/event/worship-in-person-and-online-30/
END:VEVENT
BEGIN:VEVENT
DTSTART;TZID=UTC:20230720T190000
DTEND;TZID=UTC:20230720T220000
DTSTAMP:20260421T193822
CREATED:20230421T184048Z
LAST-MODIFIED:20230702T192258Z
UID:3092-1689879600-1689890400@knoxvkh.ca
SUMMARY:Alcoholics Anonymous   7pm.  For anyone who wants to stop drinking.  For further info contact hilltopslippersvkh@gmail.com
DESCRIPTION:
URL:https://knoxvkh.ca/event/alcoholics-anonymous-7pm-for-anyone-who-wants-to-stop-drinking-first-meeting-april-6-for-further-info-contact-hilltopslippersvkhgmail-com-13/
END:VEVENT
BEGIN:VEVENT
DTSTART;TZID=UTC:20230716T110000
DTEND;TZID=UTC:20230716T120000
DTSTAMP:20260421T193822
CREATED:20230702T195536Z
LAST-MODIFIED:20230702T195536Z
UID:3217-1689505200-1689508800@knoxvkh.ca
SUMMARY:Worship in person and Online
DESCRIPTION:
URL:https://knoxvkh.ca/event/worship-in-person-and-online-31/
END:VEVENT
BEGIN:VEVENT
DTSTART;TZID=UTC:20230713T190000
DTEND;TZID=UTC:20230713T220000
DTSTAMP:20260421T193822
CREATED:20230421T183949Z
LAST-MODIFIED:20230702T192347Z
UID:3090-1689274800-1689285600@knoxvkh.ca
SUMMARY:Alcoholics Anonymous   7pm.  For anyone who wants to stop drinking.  For further info contact hilltopslippersvkh@gmail.com
DESCRIPTION:
URL:https://knoxvkh.ca/event/alcoholics-anonymous-7pm-for-anyone-who-wants-to-stop-drinking-first-meeting-april-6-for-further-info-contact-hilltopslippersvkhgmail-com-12/
END:VEVENT
BEGIN:VEVENT
DTSTART;TZID=UTC:20230713T190000
DTEND;TZID=UTC:20230713T190000
DTSTAMP:20260421T193822
CREATED:20230421T183758Z
LAST-MODIFIED:20230702T192438Z
UID:3088-1689274800-1689274800@knoxvkh.ca
SUMMARY:Alcoholics Anonymous   7pm.  For anyone who wants to stop drinking. For further info contact hilltopslippersvkh@gmail.com
DESCRIPTION:
URL:https://knoxvkh.ca/event/alcoholics-anonymous-7pm-for-anyone-who-wants-to-stop-drinking-first-meeting-april-6-for-further-info-contact-hilltopslippersvkhgmail-com-11/
END:VEVENT
BEGIN:VEVENT
DTSTART;TZID=UTC:20230709T110000
DTEND;TZID=UTC:20230709T120000
DTSTAMP:20260421T193822
CREATED:20230702T190129Z
LAST-MODIFIED:20230702T190129Z
UID:3192-1688900400-1688904000@knoxvkh.ca
SUMMARY:Knox is worshipping at the Fairgrounds at 11am
DESCRIPTION:
URL:https://knoxvkh.ca/event/knox-is-worshipping-at-the-fairgrounds-at-11am/
END:VEVENT
BEGIN:VEVENT
DTSTART;TZID=UTC:20230707T080000
DTEND;TZID=UTC:20230707T170000
DTSTAMP:20260421T193822
CREATED:20230604T181650Z
LAST-MODIFIED:20230604T182914Z
UID:3144-1688716800-1688749200@knoxvkh.ca
SUMMARY:Chicken BBQ  Take Out Only  Tickets Available :  Contact any Board member
DESCRIPTION:
URL:https://knoxvkh.ca/event/chicken-bbq-take-out-only-tickets-available/
END:VEVENT
BEGIN:VEVENT
DTSTART;TZID=UTC:20230706T190000
DTEND;TZID=UTC:20230706T220000
DTSTAMP:20260421T193822
CREATED:20230421T183535Z
LAST-MODIFIED:20230702T192544Z
UID:3086-1688670000-1688680800@knoxvkh.ca
SUMMARY:Alcoholics Anonymous   7pm.  For anyone who wants to stop drinking. For further info contact hilltopslippersvkh@gmail.com
DESCRIPTION:
URL:https://knoxvkh.ca/event/alcoholics-anonymous-7pm-for-anyone-who-wants-to-stop-drinking-first-meeting-april-6-for-further-info-contact-hilltopslippersvkhgmail-com-10/
END:VEVENT
BEGIN:VEVENT
DTSTART;TZID=UTC:20230702T110000
DTEND;TZID=UTC:20230702T120000
DTSTAMP:20260421T193822
CREATED:20230702T200322Z
LAST-MODIFIED:20230702T200322Z
UID:3223-1688295600-1688299200@knoxvkh.ca
SUMMARY:Worship in person and Online
DESCRIPTION:
URL:https://knoxvkh.ca/event/worship-in-person-and-online-33/
END:VEVENT
BEGIN:VEVENT
DTSTART;TZID=UTC:20230629T190000
DTEND;TZID=UTC:20230629T220000
DTSTAMP:20260421T193822
CREATED:20230421T183407Z
LAST-MODIFIED:20230702T192658Z
UID:3084-1688065200-1688076000@knoxvkh.ca
SUMMARY:Alcoholics Anonymous   7pm.  For anyone who wants to stop drinking. For further info contact hilltopslippersvkh@gmail.com
DESCRIPTION:
URL:https://knoxvkh.ca/event/alcoholics-anonymous-7pm-for-anyone-who-wants-to-stop-drinking-first-meeting-april-6-for-further-info-contact-hilltopslippersvkhgmail-com-9/
END:VEVENT
BEGIN:VEVENT
DTSTART;TZID=UTC:20230625T190000
DTEND;TZID=UTC:20230625T210000
DTSTAMP:20260421T193822
CREATED:20230620T211824Z
LAST-MODIFIED:20230620T211824Z
UID:3189-1687719600-1687726800@knoxvkh.ca
SUMMARY:Knox at  Night
DESCRIPTION:
URL:https://knoxvkh.ca/event/knox-at-night-7/
END:VEVENT
BEGIN:VEVENT
DTSTART;TZID=UTC:20230625T190000
DTEND;TZID=UTC:20230625T210000
DTSTAMP:20260421T193822
CREATED:20230620T211357Z
LAST-MODIFIED:20230620T211533Z
UID:3187-1687719600-1687726800@knoxvkh.ca
SUMMARY:Knox at Night
DESCRIPTION:
URL:https://knoxvkh.ca/event/knox-at-night-5/
END:VEVENT
END:VCALENDAR