BEGIN:VCALENDAR
VERSION:2.0
PRODID:-//Knox Presbyterian Church - ECPv6.6.4.2//NONSGML v1.0//EN
CALSCALE:GREGORIAN
METHOD:PUBLISH
X-WR-CALNAME:Knox Presbyterian Church
X-ORIGINAL-URL:https://knoxvkh.ca
X-WR-CALDESC:Events for Knox Presbyterian Church
REFRESH-INTERVAL;VALUE=DURATION:PT1H
X-Robots-Tag:noindex
X-PUBLISHED-TTL:PT1H
BEGIN:VTIMEZONE
TZID:UTC
BEGIN:STANDARD
TZOFFSETFROM:+0000
TZOFFSETTO:+0000
TZNAME:UTC
DTSTART:20230101T000000
END:STANDARD
END:VTIMEZONE
BEGIN:VEVENT
DTSTART;TZID=UTC:20230727T190000
DTEND;TZID=UTC:20230727T220000
DTSTAMP:20260421T221936
CREATED:20230421T184501Z
LAST-MODIFIED:20230702T192204Z
UID:3094-1690484400-1690495200@knoxvkh.ca
SUMMARY:Alcoholics Anonymous   7pm.  For anyone who wants to stop drinking. For further info contact hilltopslippersvkh@gmail.com
DESCRIPTION:
URL:https://knoxvkh.ca/event/alcoholics-anonymous-7pm-for-anyone-who-wants-to-stop-drinking-for-further-info-contact-hilltopslippersvkhgmail-com-14/
END:VEVENT
BEGIN:VEVENT
DTSTART;TZID=UTC:20230724T090000
DTEND;TZID=UTC:20230728T120000
DTSTAMP:20260421T221936
CREATED:20230326T214013Z
LAST-MODIFIED:20230326T214013Z
UID:3027-1690189200-1690545600@knoxvkh.ca
SUMMARY:Stellar ~ Vacation Bible School
DESCRIPTION:SHINE JESUS LIGHT \n 
URL:https://knoxvkh.ca/event/stellar-vacation-bible-school/
END:VEVENT
BEGIN:VEVENT
DTSTART;TZID=UTC:20230723T110000
DTEND;TZID=UTC:20230723T110000
DTSTAMP:20260421T221936
CREATED:20230702T195841Z
LAST-MODIFIED:20230702T195841Z
UID:3219-1690110000-1690110000@knoxvkh.ca
SUMMARY:Worship in person and Online
DESCRIPTION:
URL:https://knoxvkh.ca/event/worship-in-person-and-online-30/
END:VEVENT
BEGIN:VEVENT
DTSTART;TZID=UTC:20230720T190000
DTEND;TZID=UTC:20230720T220000
DTSTAMP:20260421T221936
CREATED:20230421T184048Z
LAST-MODIFIED:20230702T192258Z
UID:3092-1689879600-1689890400@knoxvkh.ca
SUMMARY:Alcoholics Anonymous   7pm.  For anyone who wants to stop drinking.  For further info contact hilltopslippersvkh@gmail.com
DESCRIPTION:
URL:https://knoxvkh.ca/event/alcoholics-anonymous-7pm-for-anyone-who-wants-to-stop-drinking-first-meeting-april-6-for-further-info-contact-hilltopslippersvkhgmail-com-13/
END:VEVENT
BEGIN:VEVENT
DTSTART;TZID=UTC:20230716T110000
DTEND;TZID=UTC:20230716T120000
DTSTAMP:20260421T221936
CREATED:20230702T195536Z
LAST-MODIFIED:20230702T195536Z
UID:3217-1689505200-1689508800@knoxvkh.ca
SUMMARY:Worship in person and Online
DESCRIPTION:
URL:https://knoxvkh.ca/event/worship-in-person-and-online-31/
END:VEVENT
BEGIN:VEVENT
DTSTART;TZID=UTC:20230713T190000
DTEND;TZID=UTC:20230713T220000
DTSTAMP:20260421T221936
CREATED:20230421T183949Z
LAST-MODIFIED:20230702T192347Z
UID:3090-1689274800-1689285600@knoxvkh.ca
SUMMARY:Alcoholics Anonymous   7pm.  For anyone who wants to stop drinking.  For further info contact hilltopslippersvkh@gmail.com
DESCRIPTION:
URL:https://knoxvkh.ca/event/alcoholics-anonymous-7pm-for-anyone-who-wants-to-stop-drinking-first-meeting-april-6-for-further-info-contact-hilltopslippersvkhgmail-com-12/
END:VEVENT
BEGIN:VEVENT
DTSTART;TZID=UTC:20230713T190000
DTEND;TZID=UTC:20230713T190000
DTSTAMP:20260421T221936
CREATED:20230421T183758Z
LAST-MODIFIED:20230702T192438Z
UID:3088-1689274800-1689274800@knoxvkh.ca
SUMMARY:Alcoholics Anonymous   7pm.  For anyone who wants to stop drinking. For further info contact hilltopslippersvkh@gmail.com
DESCRIPTION:
URL:https://knoxvkh.ca/event/alcoholics-anonymous-7pm-for-anyone-who-wants-to-stop-drinking-first-meeting-april-6-for-further-info-contact-hilltopslippersvkhgmail-com-11/
END:VEVENT
BEGIN:VEVENT
DTSTART;TZID=UTC:20230709T110000
DTEND;TZID=UTC:20230709T120000
DTSTAMP:20260421T221936
CREATED:20230702T190129Z
LAST-MODIFIED:20230702T190129Z
UID:3192-1688900400-1688904000@knoxvkh.ca
SUMMARY:Knox is worshipping at the Fairgrounds at 11am
DESCRIPTION:
URL:https://knoxvkh.ca/event/knox-is-worshipping-at-the-fairgrounds-at-11am/
END:VEVENT
BEGIN:VEVENT
DTSTART;TZID=UTC:20230707T080000
DTEND;TZID=UTC:20230707T170000
DTSTAMP:20260421T221936
CREATED:20230604T181650Z
LAST-MODIFIED:20230604T182914Z
UID:3144-1688716800-1688749200@knoxvkh.ca
SUMMARY:Chicken BBQ  Take Out Only  Tickets Available :  Contact any Board member
DESCRIPTION:
URL:https://knoxvkh.ca/event/chicken-bbq-take-out-only-tickets-available/
END:VEVENT
BEGIN:VEVENT
DTSTART;TZID=UTC:20230706T190000
DTEND;TZID=UTC:20230706T220000
DTSTAMP:20260421T221936
CREATED:20230421T183535Z
LAST-MODIFIED:20230702T192544Z
UID:3086-1688670000-1688680800@knoxvkh.ca
SUMMARY:Alcoholics Anonymous   7pm.  For anyone who wants to stop drinking. For further info contact hilltopslippersvkh@gmail.com
DESCRIPTION:
URL:https://knoxvkh.ca/event/alcoholics-anonymous-7pm-for-anyone-who-wants-to-stop-drinking-first-meeting-april-6-for-further-info-contact-hilltopslippersvkhgmail-com-10/
END:VEVENT
BEGIN:VEVENT
DTSTART;TZID=UTC:20230702T110000
DTEND;TZID=UTC:20230702T120000
DTSTAMP:20260421T221936
CREATED:20230702T200322Z
LAST-MODIFIED:20230702T200322Z
UID:3223-1688295600-1688299200@knoxvkh.ca
SUMMARY:Worship in person and Online
DESCRIPTION:
URL:https://knoxvkh.ca/event/worship-in-person-and-online-33/
END:VEVENT
BEGIN:VEVENT
DTSTART;TZID=UTC:20230629T190000
DTEND;TZID=UTC:20230629T220000
DTSTAMP:20260421T221936
CREATED:20230421T183407Z
LAST-MODIFIED:20230702T192658Z
UID:3084-1688065200-1688076000@knoxvkh.ca
SUMMARY:Alcoholics Anonymous   7pm.  For anyone who wants to stop drinking. For further info contact hilltopslippersvkh@gmail.com
DESCRIPTION:
URL:https://knoxvkh.ca/event/alcoholics-anonymous-7pm-for-anyone-who-wants-to-stop-drinking-first-meeting-april-6-for-further-info-contact-hilltopslippersvkhgmail-com-9/
END:VEVENT
BEGIN:VEVENT
DTSTART;TZID=UTC:20230625T190000
DTEND;TZID=UTC:20230625T210000
DTSTAMP:20260421T221936
CREATED:20230620T211824Z
LAST-MODIFIED:20230620T211824Z
UID:3189-1687719600-1687726800@knoxvkh.ca
SUMMARY:Knox at  Night
DESCRIPTION:
URL:https://knoxvkh.ca/event/knox-at-night-7/
END:VEVENT
BEGIN:VEVENT
DTSTART;TZID=UTC:20230625T190000
DTEND;TZID=UTC:20230625T210000
DTSTAMP:20260421T221936
CREATED:20230620T211357Z
LAST-MODIFIED:20230620T211533Z
UID:3187-1687719600-1687726800@knoxvkh.ca
SUMMARY:Knox at Night
DESCRIPTION:
URL:https://knoxvkh.ca/event/knox-at-night-5/
END:VEVENT
BEGIN:VEVENT
DTSTART;TZID=UTC:20230622T190000
DTEND;TZID=UTC:20230622T220000
DTSTAMP:20260421T221936
CREATED:20230421T183320Z
LAST-MODIFIED:20230421T183320Z
UID:3082-1687460400-1687471200@knoxvkh.ca
SUMMARY:Alcoholics Anonymous   7pm.  For anyone who wants to stop drinking. First meeting April 6. For further info contact hilltopslippersvkh@gmail.com
DESCRIPTION:
URL:https://knoxvkh.ca/event/alcoholics-anonymous-7pm-for-anyone-who-wants-to-stop-drinking-first-meeting-april-6-for-further-info-contact-hilltopslippersvkhgmail-com-8/
END:VEVENT
BEGIN:VEVENT
DTSTART;TZID=UTC:20230617T093000
DTEND;TZID=UTC:20230617T110000
DTSTAMP:20260421T221936
CREATED:20230604T181303Z
LAST-MODIFIED:20230604T181303Z
UID:3142-1686994200-1686999600@knoxvkh.ca
SUMMARY:VBS  meeting
DESCRIPTION:
URL:https://knoxvkh.ca/event/vbs-meeting-2/
END:VEVENT
BEGIN:VEVENT
DTSTART;TZID=UTC:20230615T190000
DTEND;TZID=UTC:20230615T220000
DTSTAMP:20260421T221936
CREATED:20230421T182939Z
LAST-MODIFIED:20230421T183221Z
UID:3080-1686855600-1686866400@knoxvkh.ca
SUMMARY:Alcoholics Anonymous   7pm.  For anyone who wants to stop drinking. First meeting April 6. For further info contact hilltopslippersvkh@gmail.com
DESCRIPTION:
URL:https://knoxvkh.ca/event/alcoholics-anonymous-7pm-for-anyone-who-wants-to-stop-drinking-first-meeting-april-6-for-further-info-contact-hilltopslippersvkhgmail-com-7/
END:VEVENT
BEGIN:VEVENT
DTSTART;TZID=UTC:20230612T100000
DTEND;TZID=UTC:20230612T103000
DTSTAMP:20260421T221936
CREATED:20230604T181122Z
LAST-MODIFIED:20230604T181122Z
UID:3140-1686564000-1686565800@knoxvkh.ca
SUMMARY:Ladies Aid
DESCRIPTION:
URL:https://knoxvkh.ca/event/ladies-aid/
END:VEVENT
BEGIN:VEVENT
DTSTART;TZID=UTC:20230611T120000
DTEND;TZID=UTC:20230611T140000
DTSTAMP:20260421T221936
CREATED:20230604T180518Z
LAST-MODIFIED:20230604T180518Z
UID:3135-1686484800-1686492000@knoxvkh.ca
SUMMARY:Fellowship Lunch
DESCRIPTION:We need donations of desserts and main main dishes. Please speak to Robin McRae. \nIf you haven’t had the opportunity\, now is the perfect time to share!
URL:https://knoxvkh.ca/event/fellowship-lunch-2/
END:VEVENT
BEGIN:VEVENT
DTSTART;TZID=UTC:20230610T080000
DTEND;TZID=UTC:20230610T100000
DTSTAMP:20260421T221936
CREATED:20230604T175201Z
LAST-MODIFIED:20230604T175201Z
UID:3133-1686384000-1686391200@knoxvkh.ca
SUMMARY:Men's Prayer Breakfast: Scrambled eggs\, sausage\, potatoes\, fruit\, yogurt\, tea & coffee.
DESCRIPTION:
URL:https://knoxvkh.ca/event/mens-prayer-breakfast-scrambled-eggs-sausage-potatoes-fruit-yogurt-tea-coffee/
END:VEVENT
BEGIN:VEVENT
DTSTART;TZID=UTC:20230608T190000
DTEND;TZID=UTC:20230608T220000
DTSTAMP:20260421T221936
CREATED:20230421T182853Z
LAST-MODIFIED:20230421T182853Z
UID:3078-1686250800-1686261600@knoxvkh.ca
SUMMARY:Alcoholics Anonymous   7pm.  For anyone who wants to stop drinking. First meeting April 6. For further info contact hilltopslippersvkh@gmail.com
DESCRIPTION:
URL:https://knoxvkh.ca/event/alcoholics-anonymous-7pm-for-anyone-who-wants-to-stop-drinking-first-meeting-april-6-for-further-info-contact-hilltopslippersvkhgmail-com-6/
END:VEVENT
BEGIN:VEVENT
DTSTART;TZID=UTC:20230606T130000
DTEND;TZID=UTC:20230606T150000
DTSTAMP:20260421T221936
CREATED:20230604T180951Z
LAST-MODIFIED:20230604T180951Z
UID:3138-1686056400-1686063600@knoxvkh.ca
SUMMARY:Heritage Lodge Worship
DESCRIPTION:
URL:https://knoxvkh.ca/event/heritage-lodge-worship/
END:VEVENT
BEGIN:VEVENT
DTSTART;TZID=UTC:20230606T130000
DTEND;TZID=UTC:20230606T130000
DTSTAMP:20260421T221936
CREATED:20230326T215243Z
LAST-MODIFIED:20230326T215243Z
UID:3039-1686056400-1686056400@knoxvkh.ca
SUMMARY:Heritage Lodge worship
DESCRIPTION:
URL:https://knoxvkh.ca/event/heritage-lodge-worship-3/
END:VEVENT
BEGIN:VEVENT
DTSTART;TZID=UTC:20230601T190000
DTEND;TZID=UTC:20230601T220000
DTSTAMP:20260421T221936
CREATED:20230421T182745Z
LAST-MODIFIED:20230421T182745Z
UID:3076-1685646000-1685656800@knoxvkh.ca
SUMMARY:Alcoholics Anonymous   7pm.  For anyone who wants to stop drinking. First meeting April 6. For further info contact hilltopslippersvkh@gmail.com
DESCRIPTION:
URL:https://knoxvkh.ca/event/alcoholics-anonymous-7pm-for-anyone-who-wants-to-stop-drinking-first-meeting-april-6-for-further-info-contact-hilltopslippersvkhgmail-com-5/
END:VEVENT
BEGIN:VEVENT
DTSTART;TZID=UTC:20230529T110000
DTEND;TZID=UTC:20230529T133000
DTSTAMP:20260421T221936
CREATED:20230518T163527Z
LAST-MODIFIED:20230518T163527Z
UID:3121-1685358000-1685367000@knoxvkh.ca
SUMMARY:Soup & Sandwich & Dessert  Monday May 29th
DESCRIPTION:
URL:https://knoxvkh.ca/event/soup-sandwich-dessert-monday-may-29th/
END:VEVENT
BEGIN:VEVENT
DTSTART;TZID=UTC:20230528T110000
DTEND;TZID=UTC:20230528T120000
DTSTAMP:20260421T221936
CREATED:20230512T185952Z
LAST-MODIFIED:20230525T172911Z
UID:3111-1685271600-1685275200@knoxvkh.ca
SUMMARY:Worship in Person & Online ~~ Pot Trust Lunch to follow
DESCRIPTION:
URL:https://knoxvkh.ca/event/worship-in-person-online-2/
END:VEVENT
BEGIN:VEVENT
DTSTART;TZID=UTC:20230528T070000
DTEND;TZID=UTC:20230528T210000
DTSTAMP:20260421T221936
CREATED:20230516T224747Z
LAST-MODIFIED:20230516T224747Z
UID:3115-1685257200-1685307600@knoxvkh.ca
SUMMARY:Knox at Night
DESCRIPTION:
URL:https://knoxvkh.ca/event/knox-at-night-6/
END:VEVENT
BEGIN:VEVENT
DTSTART;TZID=UTC:20230527T133000
DTEND;TZID=UTC:20230527T150000
DTSTAMP:20260421T221936
CREATED:20230409T214925Z
LAST-MODIFIED:20230409T215025Z
UID:3043-1685194200-1685199600@knoxvkh.ca
SUMMARY:Music & Mayhem  ~ A time of laughter and music
DESCRIPTION:Tickets will be available later this month
URL:https://knoxvkh.ca/event/music-mayhem-a-time-of-laughter-and-music/
END:VEVENT
BEGIN:VEVENT
DTSTART;TZID=UTC:20230525T190000
DTEND;TZID=UTC:20230525T220000
DTSTAMP:20260421T221936
CREATED:20230421T182514Z
LAST-MODIFIED:20230421T182514Z
UID:3074-1685041200-1685052000@knoxvkh.ca
SUMMARY:Alcoholics Anonymous   7pm.  For anyone who wants to stop drinking. First meeting April 6. For further info contact hilltopslippersvkh@gmail.com
DESCRIPTION:
URL:https://knoxvkh.ca/event/alcoholics-anonymous-7pm-for-anyone-who-wants-to-stop-drinking-first-meeting-april-6-for-further-info-contact-hilltopslippersvkhgmail-com-4/
END:VEVENT
BEGIN:VEVENT
DTSTART;TZID=UTC:20230521T110000
DTEND;TZID=UTC:20230521T120000
DTSTAMP:20260421T221936
CREATED:20230512T185331Z
LAST-MODIFIED:20230512T185537Z
UID:3103-1684666800-1684670400@knoxvkh.ca
SUMMARY:Worship in Person & Online
DESCRIPTION:
URL:https://knoxvkh.ca/event/fellowship-lunch/
END:VEVENT
END:VCALENDAR