BEGIN:VCALENDAR
VERSION:2.0
PRODID:-//Knox Presbyterian Church - ECPv6.6.4.2//NONSGML v1.0//EN
CALSCALE:GREGORIAN
METHOD:PUBLISH
X-WR-CALNAME:Knox Presbyterian Church
X-ORIGINAL-URL:https://knoxvkh.ca
X-WR-CALDESC:Events for Knox Presbyterian Church
REFRESH-INTERVAL;VALUE=DURATION:PT1H
X-Robots-Tag:noindex
X-PUBLISHED-TTL:PT1H
BEGIN:VTIMEZONE
TZID:UTC
BEGIN:STANDARD
TZOFFSETFROM:+0000
TZOFFSETTO:+0000
TZNAME:UTC
DTSTART:20230101T000000
END:STANDARD
END:VTIMEZONE
BEGIN:VEVENT
DTSTART;TZID=UTC:20230529T110000
DTEND;TZID=UTC:20230529T133000
DTSTAMP:20260422T022435
CREATED:20230518T163527Z
LAST-MODIFIED:20230518T163527Z
UID:3121-1685358000-1685367000@knoxvkh.ca
SUMMARY:Soup & Sandwich & Dessert  Monday May 29th
DESCRIPTION:
URL:https://knoxvkh.ca/event/soup-sandwich-dessert-monday-may-29th/
END:VEVENT
BEGIN:VEVENT
DTSTART;TZID=UTC:20230528T110000
DTEND;TZID=UTC:20230528T120000
DTSTAMP:20260422T022435
CREATED:20230512T185952Z
LAST-MODIFIED:20230525T172911Z
UID:3111-1685271600-1685275200@knoxvkh.ca
SUMMARY:Worship in Person & Online ~~ Pot Trust Lunch to follow
DESCRIPTION:
URL:https://knoxvkh.ca/event/worship-in-person-online-2/
END:VEVENT
BEGIN:VEVENT
DTSTART;TZID=UTC:20230528T070000
DTEND;TZID=UTC:20230528T210000
DTSTAMP:20260422T022435
CREATED:20230516T224747Z
LAST-MODIFIED:20230516T224747Z
UID:3115-1685257200-1685307600@knoxvkh.ca
SUMMARY:Knox at Night
DESCRIPTION:
URL:https://knoxvkh.ca/event/knox-at-night-6/
END:VEVENT
BEGIN:VEVENT
DTSTART;TZID=UTC:20230527T133000
DTEND;TZID=UTC:20230527T150000
DTSTAMP:20260422T022435
CREATED:20230409T214925Z
LAST-MODIFIED:20230409T215025Z
UID:3043-1685194200-1685199600@knoxvkh.ca
SUMMARY:Music & Mayhem  ~ A time of laughter and music
DESCRIPTION:Tickets will be available later this month
URL:https://knoxvkh.ca/event/music-mayhem-a-time-of-laughter-and-music/
END:VEVENT
BEGIN:VEVENT
DTSTART;TZID=UTC:20230525T190000
DTEND;TZID=UTC:20230525T220000
DTSTAMP:20260422T022435
CREATED:20230421T182514Z
LAST-MODIFIED:20230421T182514Z
UID:3074-1685041200-1685052000@knoxvkh.ca
SUMMARY:Alcoholics Anonymous   7pm.  For anyone who wants to stop drinking. First meeting April 6. For further info contact hilltopslippersvkh@gmail.com
DESCRIPTION:
URL:https://knoxvkh.ca/event/alcoholics-anonymous-7pm-for-anyone-who-wants-to-stop-drinking-first-meeting-april-6-for-further-info-contact-hilltopslippersvkhgmail-com-4/
END:VEVENT
BEGIN:VEVENT
DTSTART;TZID=UTC:20230521T110000
DTEND;TZID=UTC:20230521T120000
DTSTAMP:20260422T022435
CREATED:20230512T185331Z
LAST-MODIFIED:20230512T185537Z
UID:3103-1684666800-1684670400@knoxvkh.ca
SUMMARY:Worship in Person & Online
DESCRIPTION:
URL:https://knoxvkh.ca/event/fellowship-lunch/
END:VEVENT
BEGIN:VEVENT
DTSTART;TZID=UTC:20230518T080000
DTEND;TZID=UTC:20230518T170000
DTSTAMP:20260422T022435
CREATED:20230421T182337Z
LAST-MODIFIED:20230421T182356Z
UID:3072-1684396800-1684429200@knoxvkh.ca
SUMMARY:Alcoholics Anonymous   7pm.  For anyone who wants to stop drinking. First meeting April 6. For further info contact hilltopslippersvkh@gmail.com
DESCRIPTION:
URL:https://knoxvkh.ca/event/alcoholics-anonymous-7pm-for-anyone-who-wants-to-stop-drinking-first-meeting-april-6-for-further-info-contact-hilltopslippersvkhgmail-com-3/
END:VEVENT
BEGIN:VEVENT
DTSTART;TZID=UTC:20230514T120000
DTEND;TZID=UTC:20230514T140000
DTSTAMP:20260422T022435
CREATED:20230512T185640Z
LAST-MODIFIED:20230512T185804Z
UID:3107-1684065600-1684072800@knoxvkh.ca
SUMMARY:Fellowship Lunch
DESCRIPTION:
URL:https://knoxvkh.ca/event/worship-in-person-online/
END:VEVENT
BEGIN:VEVENT
DTSTART;TZID=UTC:20230514T110000
DTEND;TZID=UTC:20230514T120000
DTSTAMP:20260422T022435
CREATED:20230512T185029Z
LAST-MODIFIED:20230512T185117Z
UID:3100-1684062000-1684065600@knoxvkh.ca
SUMMARY:Worship In Person & Online
DESCRIPTION:
URL:https://knoxvkh.ca/event/worship-in-person-online-1100am/
END:VEVENT
BEGIN:VEVENT
DTSTART;TZID=UTC:20230513T140000
DTEND;TZID=UTC:20230513T153000
DTSTAMP:20260422T022435
CREATED:20230421T181910Z
LAST-MODIFIED:20230421T181924Z
UID:3068-1683986400-1683991800@knoxvkh.ca
SUMMARY:Handbell Choir
DESCRIPTION:
URL:https://knoxvkh.ca/event/handbell-choir/
END:VEVENT
BEGIN:VEVENT
DTSTART;TZID=UTC:20230511T190000
DTEND;TZID=UTC:20230511T220000
DTSTAMP:20260422T022435
CREATED:20230421T182314Z
LAST-MODIFIED:20230421T182314Z
UID:3070-1683831600-1683842400@knoxvkh.ca
SUMMARY:Alcoholics Anonymous   7pm.  For anyone who wants to stop drinking. First meeting April 6. For further info contact hilltopslippersvkh@gmail.com
DESCRIPTION:
URL:https://knoxvkh.ca/event/alcoholics-anonymous-7pm-for-anyone-who-wants-to-stop-drinking-first-meeting-april-6-for-further-info-contact-hilltopslippersvkhgmail-com-2/
END:VEVENT
BEGIN:VEVENT
DTSTART;TZID=UTC:20230506T100000
DTEND;TZID=UTC:20230506T110000
DTSTAMP:20260422T022435
CREATED:20230409T215847Z
LAST-MODIFIED:20230409T215847Z
UID:3051-1683367200-1683370800@knoxvkh.ca
SUMMARY:VBS  Meeting
DESCRIPTION:
URL:https://knoxvkh.ca/event/vbs-meeting/
END:VEVENT
BEGIN:VEVENT
DTSTART;TZID=UTC:20230506T080000
DTEND;TZID=UTC:20230506T100000
DTSTAMP:20260422T022435
CREATED:20230326T173456Z
LAST-MODIFIED:20230326T173456Z
UID:3017-1683360000-1683367200@knoxvkh.ca
SUMMARY:Monthly Men's Prayer Breakfast Reboot!!!
DESCRIPTION:May 6 at 8am at our church \nCost TBA \nGuest Speaker Mr. Mackie Robertson ‘Food Grain Bank’
URL:https://knoxvkh.ca/event/monthly-mens-prayer-breakfast-reboot/
END:VEVENT
BEGIN:VEVENT
DTSTART;TZID=UTC:20230504T190000
DTEND;TZID=UTC:20230504T210000
DTSTAMP:20260422T022435
CREATED:20230409T221007Z
LAST-MODIFIED:20230409T221007Z
UID:3059-1683226800-1683234000@knoxvkh.ca
SUMMARY:AA Meeting  7 pm
DESCRIPTION:
URL:https://knoxvkh.ca/event/aa-meeting-7-pm-4/
END:VEVENT
BEGIN:VEVENT
DTSTART;TZID=UTC:20230502T130000
DTEND;TZID=UTC:20230502T150000
DTSTAMP:20260422T022435
CREATED:20230326T215057Z
LAST-MODIFIED:20230326T215057Z
UID:3037-1683032400-1683039600@knoxvkh.ca
SUMMARY:Heritage Lodge Worship
DESCRIPTION:
URL:https://knoxvkh.ca/event/heritage-lodge-worship-2/
END:VEVENT
BEGIN:VEVENT
DTSTART;TZID=UTC:20230427T190000
DTEND;TZID=UTC:20230427T210000
DTSTAMP:20260422T022435
CREATED:20230409T220843Z
LAST-MODIFIED:20230409T220843Z
UID:3057-1682622000-1682629200@knoxvkh.ca
SUMMARY:AA Meeting  7 pm
DESCRIPTION:
URL:https://knoxvkh.ca/event/aa-meeting-7-pm-3/
END:VEVENT
BEGIN:VEVENT
DTSTART;TZID=UTC:20230423T190000
DTEND;TZID=UTC:20230423T210000
DTSTAMP:20260422T022435
CREATED:20230421T181056Z
LAST-MODIFIED:20230421T181056Z
UID:3064-1682276400-1682283600@knoxvkh.ca
SUMMARY:KNOX at Night
DESCRIPTION:
URL:https://knoxvkh.ca/event/knox-at-night-4/
END:VEVENT
BEGIN:VEVENT
DTSTART;TZID=UTC:20230423T120000
DTEND;TZID=UTC:20230423T150000
DTSTAMP:20260422T022435
CREATED:20230326T214910Z
LAST-MODIFIED:20230421T181631Z
UID:3035-1682251200-1682262000@knoxvkh.ca
SUMMARY:Crokinole after Worship!   12pm Light Lunch Adults $3/ Kids $1/Family 10$ Max
DESCRIPTION:
URL:https://knoxvkh.ca/event/crokinole-after-worship/
END:VEVENT
BEGIN:VEVENT
DTSTART;TZID=UTC:20230423T100000
DTEND;TZID=UTC:20230423T120000
DTSTAMP:20260422T022435
CREATED:20230409T220146Z
LAST-MODIFIED:20230409T220146Z
UID:3053-1682244000-1682251200@knoxvkh.ca
SUMMARY:Ordination & Induction of Elders
DESCRIPTION:
URL:https://knoxvkh.ca/event/ordination-induction-of-elders/
END:VEVENT
BEGIN:VEVENT
DTSTART;TZID=UTC:20230420T190000
DTEND;TZID=UTC:20230420T210000
DTSTAMP:20260422T022435
CREATED:20230413T215215Z
LAST-MODIFIED:20230409T220604Z
UID:3047-1682017200-1682024400@knoxvkh.ca
SUMMARY:AA Meeting  7 pm
DESCRIPTION:
URL:https://knoxvkh.ca/event/aa-meeting-7-pm/
END:VEVENT
BEGIN:VEVENT
DTSTART;TZID=UTC:20230420T190000
DTEND;TZID=UTC:20230420T210000
DTSTAMP:20260422T022435
CREATED:20230409T220737Z
LAST-MODIFIED:20230409T220737Z
UID:3055-1682017200-1682024400@knoxvkh.ca
SUMMARY:AA Meeting  7 pm
DESCRIPTION:
URL:https://knoxvkh.ca/event/aa-meeting-7-pm-2/
END:VEVENT
BEGIN:VEVENT
DTSTART;TZID=UTC:20230417T100000
DTEND;TZID=UTC:20230417T113000
DTSTAMP:20260422T022435
CREATED:20230409T215337Z
LAST-MODIFIED:20230409T215337Z
UID:3049-1681725600-1681731000@knoxvkh.ca
SUMMARY:Ladies Aid Meeting  10 am
DESCRIPTION:
URL:https://knoxvkh.ca/event/ladies-aid-meeting-10-am/
END:VEVENT
BEGIN:VEVENT
DTSTART;TZID=UTC:20230413T190000
DTEND;TZID=UTC:20230413T213000
DTSTAMP:20260422T022435
CREATED:20230326T212935Z
LAST-MODIFIED:20230409T215618Z
UID:3023-1681412400-1681421400@knoxvkh.ca
SUMMARY:Alcoholics Anonymous
DESCRIPTION:For anyone who wants to stop drinking. \nFirst meeting Thursday April 6. \n  \nFor further info contact   hilltopslippers@gmail.com
URL:https://knoxvkh.ca/event/alcoholics-anonymous/
END:VEVENT
BEGIN:VEVENT
DTSTART;TZID=UTC:20230409T110000
DTEND;TZID=UTC:20230409T120000
DTSTAMP:20260422T022435
CREATED:20230210T170015Z
LAST-MODIFIED:20230210T170015Z
UID:2979-1681038000-1681041600@knoxvkh.ca
SUMMARY:Easter
DESCRIPTION:
URL:https://knoxvkh.ca/event/easter-2/
END:VEVENT
BEGIN:VEVENT
DTSTART;TZID=UTC:20230407T190000
DTEND;TZID=UTC:20230407T200000
DTSTAMP:20260422T022435
CREATED:20230210T165912Z
LAST-MODIFIED:20230210T165912Z
UID:2977-1680894000-1680897600@knoxvkh.ca
SUMMARY:Good Friday
DESCRIPTION:
URL:https://knoxvkh.ca/event/good-friday-2/
END:VEVENT
BEGIN:VEVENT
DTSTART;TZID=UTC:20230406T190000
DTEND;TZID=UTC:20230406T210000
DTSTAMP:20260422T022435
CREATED:20230406T173945Z
LAST-MODIFIED:20230326T174613Z
UID:3019-1680807600-1680814800@knoxvkh.ca
SUMMARY:Alcoholics Anonymous   7pm.  For anyone who wants to stop drinking. First meeting April 6. For further info contact hilltopslippersvkh@gmail.com
DESCRIPTION:
URL:https://knoxvkh.ca/event/alcoholics-anonymous-7pm-for-anyone-who-wants-to-stop-drinking-first-meeting-april-6-for-further-info-contact-hilltopslippersvkhgmail-com/
END:VEVENT
BEGIN:VEVENT
DTSTART;TZID=UTC:20230406T190000
DTEND;TZID=UTC:20230406T200000
DTSTAMP:20260422T022435
CREATED:20230310T184000Z
LAST-MODIFIED:20230310T185658Z
UID:3014-1680807600-1680811200@knoxvkh.ca
SUMMARY:Maundy Thursday  7pm
DESCRIPTION:
URL:https://knoxvkh.ca/event/maundy-thursday-7pm/
END:VEVENT
BEGIN:VEVENT
DTSTART;TZID=UTC:20230402T110000
DTEND;TZID=UTC:20230402T120000
DTSTAMP:20260422T022435
CREATED:20230326T214451Z
LAST-MODIFIED:20230326T214451Z
UID:3029-1680433200-1680436800@knoxvkh.ca
SUMMARY:Foster Children Offering
DESCRIPTION:
URL:https://knoxvkh.ca/event/foster-children-offering/
END:VEVENT
BEGIN:VEVENT
DTSTART;VALUE=DATE:20230402
DTEND;VALUE=DATE:20230403
DTSTAMP:20260422T022435
CREATED:20230210T165741Z
LAST-MODIFIED:20230210T165741Z
UID:2975-1680393600-1680479999@knoxvkh.ca
SUMMARY:Palm Sunday ~Communion
DESCRIPTION:
URL:https://knoxvkh.ca/event/palm-sunday-communion/
END:VEVENT
BEGIN:VEVENT
DTSTART;TZID=UTC:20230326T190000
DTEND;TZID=UTC:20230326T210000
DTSTAMP:20260422T022435
CREATED:20230228T194743Z
LAST-MODIFIED:20230228T194743Z
UID:3005-1679857200-1679864400@knoxvkh.ca
SUMMARY:KNOX at Night
DESCRIPTION:
URL:https://knoxvkh.ca/event/knox-at-night-3/
END:VEVENT
END:VCALENDAR