BEGIN:VCALENDAR
VERSION:2.0
PRODID:-//Knox Presbyterian Church - ECPv6.6.4.2//NONSGML v1.0//EN
CALSCALE:GREGORIAN
METHOD:PUBLISH
X-WR-CALNAME:Knox Presbyterian Church
X-ORIGINAL-URL:https://knoxvkh.ca
X-WR-CALDESC:Events for Knox Presbyterian Church
REFRESH-INTERVAL;VALUE=DURATION:PT1H
X-Robots-Tag:noindex
X-PUBLISHED-TTL:PT1H
BEGIN:VTIMEZONE
TZID:UTC
BEGIN:STANDARD
TZOFFSETFROM:+0000
TZOFFSETTO:+0000
TZNAME:UTC
DTSTART:20230101T000000
END:STANDARD
END:VTIMEZONE
BEGIN:VEVENT
DTSTART;TZID=UTC:20230407T190000
DTEND;TZID=UTC:20230407T200000
DTSTAMP:20260422T062926
CREATED:20230210T165912Z
LAST-MODIFIED:20230210T165912Z
UID:2977-1680894000-1680897600@knoxvkh.ca
SUMMARY:Good Friday
DESCRIPTION:
URL:https://knoxvkh.ca/event/good-friday-2/
END:VEVENT
BEGIN:VEVENT
DTSTART;TZID=UTC:20230406T190000
DTEND;TZID=UTC:20230406T210000
DTSTAMP:20260422T062926
CREATED:20230406T173945Z
LAST-MODIFIED:20230326T174613Z
UID:3019-1680807600-1680814800@knoxvkh.ca
SUMMARY:Alcoholics Anonymous   7pm.  For anyone who wants to stop drinking. First meeting April 6. For further info contact hilltopslippersvkh@gmail.com
DESCRIPTION:
URL:https://knoxvkh.ca/event/alcoholics-anonymous-7pm-for-anyone-who-wants-to-stop-drinking-first-meeting-april-6-for-further-info-contact-hilltopslippersvkhgmail-com/
END:VEVENT
BEGIN:VEVENT
DTSTART;TZID=UTC:20230406T190000
DTEND;TZID=UTC:20230406T200000
DTSTAMP:20260422T062926
CREATED:20230310T184000Z
LAST-MODIFIED:20230310T185658Z
UID:3014-1680807600-1680811200@knoxvkh.ca
SUMMARY:Maundy Thursday  7pm
DESCRIPTION:
URL:https://knoxvkh.ca/event/maundy-thursday-7pm/
END:VEVENT
BEGIN:VEVENT
DTSTART;TZID=UTC:20230402T110000
DTEND;TZID=UTC:20230402T120000
DTSTAMP:20260422T062926
CREATED:20230326T214451Z
LAST-MODIFIED:20230326T214451Z
UID:3029-1680433200-1680436800@knoxvkh.ca
SUMMARY:Foster Children Offering
DESCRIPTION:
URL:https://knoxvkh.ca/event/foster-children-offering/
END:VEVENT
BEGIN:VEVENT
DTSTART;VALUE=DATE:20230402
DTEND;VALUE=DATE:20230403
DTSTAMP:20260422T062926
CREATED:20230210T165741Z
LAST-MODIFIED:20230210T165741Z
UID:2975-1680393600-1680479999@knoxvkh.ca
SUMMARY:Palm Sunday ~Communion
DESCRIPTION:
URL:https://knoxvkh.ca/event/palm-sunday-communion/
END:VEVENT
BEGIN:VEVENT
DTSTART;TZID=UTC:20230326T190000
DTEND;TZID=UTC:20230326T210000
DTSTAMP:20260422T062926
CREATED:20230228T194743Z
LAST-MODIFIED:20230228T194743Z
UID:3005-1679857200-1679864400@knoxvkh.ca
SUMMARY:KNOX at Night
DESCRIPTION:
URL:https://knoxvkh.ca/event/knox-at-night-3/
END:VEVENT
BEGIN:VEVENT
DTSTART;VALUE=DATE:20230326
DTEND;VALUE=DATE:20230327
DTSTAMP:20260422T062926
CREATED:20230210T165634Z
LAST-MODIFIED:20230210T165634Z
UID:2973-1679788800-1679875199@knoxvkh.ca
SUMMARY:Fifth Sunday in Lent
DESCRIPTION:
URL:https://knoxvkh.ca/event/fifth-sunday-in-lent/
END:VEVENT
BEGIN:VEVENT
DTSTART;VALUE=DATE:20230319
DTEND;VALUE=DATE:20230320
DTSTAMP:20260422T062926
CREATED:20230210T165507Z
LAST-MODIFIED:20230210T165507Z
UID:2971-1679184000-1679270399@knoxvkh.ca
SUMMARY:Fourth Sunday in Lent
DESCRIPTION:
URL:https://knoxvkh.ca/event/fourth-sunday-in-lent/
END:VEVENT
BEGIN:VEVENT
DTSTART;TZID=UTC:20230312T120000
DTEND;TZID=UTC:20230312T130000
DTSTAMP:20260422T062926
CREATED:20230310T183705Z
LAST-MODIFIED:20230310T183705Z
UID:3011-1678622400-1678626000@knoxvkh.ca
SUMMARY:Pot 'Trust' Lunch
DESCRIPTION:
URL:https://knoxvkh.ca/event/pot-trust-lunch/
END:VEVENT
BEGIN:VEVENT
DTSTART;VALUE=DATE:20230312
DTEND;VALUE=DATE:20230313
DTSTAMP:20260422T062926
CREATED:20230210T165233Z
LAST-MODIFIED:20230310T183826Z
UID:2969-1678579200-1678665599@knoxvkh.ca
SUMMARY:Third Sunday in Lent 11am
DESCRIPTION:
URL:https://knoxvkh.ca/event/third-sunday-in-lent/
END:VEVENT
BEGIN:VEVENT
DTSTART;VALUE=DATE:20230312
DTEND;VALUE=DATE:20230313
DTSTAMP:20260422T062926
CREATED:20230210T171917Z
LAST-MODIFIED:20230210T171917Z
UID:2989-1678579200-1678665599@knoxvkh.ca
SUMMARY:Annual Meeting
DESCRIPTION:
URL:https://knoxvkh.ca/event/annual-meeting-2/
END:VEVENT
BEGIN:VEVENT
DTSTART;VALUE=DATE:20230305
DTEND;VALUE=DATE:20230306
DTSTAMP:20260422T062926
CREATED:20230210T164722Z
LAST-MODIFIED:20230210T164742Z
UID:2967-1677974400-1678060799@knoxvkh.ca
SUMMARY:Second Sunday in Lent
DESCRIPTION:
URL:https://knoxvkh.ca/event/second-sunday-in-lent-2/
END:VEVENT
BEGIN:VEVENT
DTSTART;VALUE=DATE:20230303
DTEND;VALUE=DATE:20230304
DTSTAMP:20260422T062926
CREATED:20230213T180608Z
LAST-MODIFIED:20230213T180902Z
UID:2996-1677801600-1677887999@knoxvkh.ca
SUMMARY:World Day of Prayer~ details soon
DESCRIPTION:
URL:https://knoxvkh.ca/event/world-day-of-prayer-details-soon/
END:VEVENT
BEGIN:VEVENT
DTSTART;TZID=UTC:20230228T191500
DTEND;TZID=UTC:20230228T210000
DTSTAMP:20260422T062926
CREATED:20230228T195007Z
LAST-MODIFIED:20230228T213048Z
UID:3007-1677611700-1677618000@knoxvkh.ca
SUMMARY:Knox Session ..CANCELLED DUE TO WEATHER
DESCRIPTION:
URL:https://knoxvkh.ca/event/knox-session/
END:VEVENT
BEGIN:VEVENT
DTSTART;TZID=UTC:20230226T190000
DTEND;TZID=UTC:20230226T203000
DTSTAMP:20260422T062926
CREATED:20230219T234537Z
LAST-MODIFIED:20230219T234537Z
UID:3001-1677438000-1677443400@knoxvkh.ca
SUMMARY:Knox at Night
DESCRIPTION:
URL:https://knoxvkh.ca/event/knox-at-night-2/
END:VEVENT
BEGIN:VEVENT
DTSTART;TZID=UTC:20230226T110000
DTEND;TZID=UTC:20230226T120000
DTSTAMP:20260422T062926
CREATED:20230210T164323Z
LAST-MODIFIED:20230219T234811Z
UID:2962-1677409200-1677412800@knoxvkh.ca
SUMMARY:First Sunday in Lent
DESCRIPTION:
URL:https://knoxvkh.ca/event/ash-wednesday-2/
CATEGORIES:Worship
END:VEVENT
BEGIN:VEVENT
DTSTART;VALUE=DATE:20230222
DTEND;VALUE=DATE:20230223
DTSTAMP:20260422T062926
CREATED:20230210T164549Z
LAST-MODIFIED:20230210T164549Z
UID:2965-1677024000-1677110399@knoxvkh.ca
SUMMARY:Ash Wednesday
DESCRIPTION:
URL:https://knoxvkh.ca/event/ash-wednesday-3/
END:VEVENT
BEGIN:VEVENT
DTSTART;TZID=UTC:20230219T130000
DTEND;TZID=UTC:20230219T150000
DTSTAMP:20260422T062926
CREATED:20230118T192426Z
LAST-MODIFIED:20230118T192426Z
UID:2942-1676811600-1676818800@knoxvkh.ca
SUMMARY:Let's Build Community This Winter!! Join Joyce Dowlath & Friends to learn to prepare Traditional Trinidadian Treats
DESCRIPTION:
URL:https://knoxvkh.ca/event/lets-build-community-this-winter-join-joyce-dowlath-friends-to-learn-to-prepare-traditional-trinidadian-treats-3/
END:VEVENT
BEGIN:VEVENT
DTSTART;TZID=UTC:20230219T110000
DTEND;TZID=UTC:20230219T120000
DTSTAMP:20260422T062926
CREATED:20230210T174735Z
LAST-MODIFIED:20230210T174735Z
UID:2991-1676804400-1676808000@knoxvkh.ca
SUMMARY:Worship and Communion
DESCRIPTION:
URL:https://knoxvkh.ca/event/worship-and-communion/
END:VEVENT
BEGIN:VEVENT
DTSTART;TZID=UTC:20230212T120000
DTEND;TZID=UTC:20230212T140000
DTSTAMP:20260422T062926
CREATED:20230210T170134Z
LAST-MODIFIED:20230210T170913Z
UID:2981-1676203200-1676210400@knoxvkh.ca
SUMMARY:Chili Cook Off
DESCRIPTION:
URL:https://knoxvkh.ca/event/chili-cook-off/
END:VEVENT
BEGIN:VEVENT
DTSTART;TZID=UTC:20230212T110000
DTEND;TZID=UTC:20230212T120000
DTSTAMP:20260422T062926
CREATED:20230210T174936Z
LAST-MODIFIED:20230210T174936Z
UID:2994-1676199600-1676203200@knoxvkh.ca
SUMMARY:11:00 am - 12:00 pm Worship in Person and Online
DESCRIPTION:
URL:https://knoxvkh.ca/event/1100-am-1200-pm-worship-in-person-and-online/
END:VEVENT
BEGIN:VEVENT
DTSTART;VALUE=DATE:20230211
DTEND;VALUE=DATE:20230212
DTSTAMP:20260422T062926
CREATED:20230210T171801Z
LAST-MODIFIED:20230210T171801Z
UID:2987-1676073600-1676159999@knoxvkh.ca
SUMMARY:Interested in having your family’s church connection immortalized?  Have your family’s names inscribed on the congregational quilt that hangs in Hardy Hall.  Speak to Elita Freier at elitafreier@hotmail.com for more information.
DESCRIPTION:
URL:https://knoxvkh.ca/event/interested-in-having-your-familys-church-connection-immortalized-have-your-familys-names-inscribed-on-the-congregational-quilt-that-hangs-in-hardy-hall-speak-to-elita-freier-at-e/
END:VEVENT
BEGIN:VEVENT
DTSTART;VALUE=DATE:20230210
DTEND;VALUE=DATE:20230211
DTSTAMP:20260422T062926
CREATED:20230210T171637Z
LAST-MODIFIED:20230210T171637Z
UID:2985-1675987200-1676073599@knoxvkh.ca
SUMMARY:200th Anniversary Steering Committee (1825 – 2025)
DESCRIPTION:In under two years\, we are celebrating our 200th Anniversary year. Our goal is to fill the entire year with special events. We need your ideas! If you are interested in being a part of the planning\, speak to Mrs. Robin McRae.
URL:https://knoxvkh.ca/event/200th-anniversary-steering-committee-1825-2025/
END:VEVENT
BEGIN:VEVENT
DTSTART;TZID=UTC:20230207T130000
DTEND;TZID=UTC:20230207T143000
DTSTAMP:20260422T062926
CREATED:20230124T174429Z
LAST-MODIFIED:20230124T174429Z
UID:2959-1675774800-1675780200@knoxvkh.ca
SUMMARY:Heritage Lodge Worship Tuesday Feb 7 at 1 p.m.
DESCRIPTION:
URL:https://knoxvkh.ca/event/heritage-lodge-worship-tuesday-feb-7-at-1-p-m/
END:VEVENT
BEGIN:VEVENT
DTSTART;TZID=UTC:20230205T130000
DTEND;TZID=UTC:20230205T150000
DTSTAMP:20260422T062926
CREATED:20230118T192254Z
LAST-MODIFIED:20230118T192254Z
UID:2940-1675602000-1675609200@knoxvkh.ca
SUMMARY:Let's Build Community This Winter!! Join Joyce Dowlath & Friends to learn to prepare Traditional Trinidadian Treats
DESCRIPTION:
URL:https://knoxvkh.ca/event/lets-build-community-this-winter-join-joyce-dowlath-friends-to-learn-to-prepare-traditional-trinidadian-treats-2/
END:VEVENT
BEGIN:VEVENT
DTSTART;TZID=UTC:20230129T110000
DTEND;TZID=UTC:20230129T120000
DTSTAMP:20260422T062926
CREATED:20220724T160336Z
LAST-MODIFIED:20220724T160336Z
UID:2931-1674990000-1674993600@knoxvkh.ca
SUMMARY:Worship in Person and Online
DESCRIPTION:
URL:https://knoxvkh.ca/event/worship-in-person-and-online-29/
END:VEVENT
BEGIN:VEVENT
DTSTART;TZID=UTC:20230124T190000
DTEND;TZID=UTC:20230124T210000
DTSTAMP:20260422T062926
CREATED:20230124T173948Z
LAST-MODIFIED:20230124T173948Z
UID:2957-1674586800-1674594000@knoxvkh.ca
SUMMARY:Kox Session Meeting
DESCRIPTION:
URL:https://knoxvkh.ca/event/kox-session-meeting/
END:VEVENT
BEGIN:VEVENT
DTSTART;TZID=UTC:20230122T190000
DTEND;TZID=UTC:20230122T203000
DTSTAMP:20260422T062926
CREATED:20230118T201803Z
LAST-MODIFIED:20230118T201803Z
UID:2954-1674414000-1674419400@knoxvkh.ca
SUMMARY:Knox at Night
DESCRIPTION:
URL:https://knoxvkh.ca/event/knox-at-night/
END:VEVENT
BEGIN:VEVENT
DTSTART;TZID=UTC:20230122T130000
DTEND;TZID=UTC:20230122T150000
DTSTAMP:20260422T062926
CREATED:20230118T191832Z
LAST-MODIFIED:20230118T191832Z
UID:2938-1674392400-1674399600@knoxvkh.ca
SUMMARY:Let's Build Community This Winter!! Join Joyce Dowlath & Friends to learn to prepare Traditional Trinidadian Treats
DESCRIPTION:
URL:https://knoxvkh.ca/event/lets-build-community-this-winter-join-joyce-dowlath-friends-to-learn-to-prepare-traditional-trinidadian-treats/
END:VEVENT
BEGIN:VEVENT
DTSTART;TZID=UTC:20230122T110000
DTEND;TZID=UTC:20230122T120000
DTSTAMP:20260422T062926
CREATED:20220724T160139Z
LAST-MODIFIED:20220724T160139Z
UID:2929-1674385200-1674388800@knoxvkh.ca
SUMMARY:Worship in Person and Online
DESCRIPTION:
URL:https://knoxvkh.ca/event/worship-in-person-and-online-28/
END:VEVENT
END:VCALENDAR