BEGIN:VCALENDAR
VERSION:2.0
PRODID:-//Knox Presbyterian Church - ECPv6.6.4.2//NONSGML v1.0//EN
CALSCALE:GREGORIAN
METHOD:PUBLISH
X-WR-CALNAME:Knox Presbyterian Church
X-ORIGINAL-URL:https://knoxvkh.ca
X-WR-CALDESC:Events for Knox Presbyterian Church
REFRESH-INTERVAL;VALUE=DURATION:PT1H
X-Robots-Tag:noindex
X-PUBLISHED-TTL:PT1H
BEGIN:VTIMEZONE
TZID:UTC
BEGIN:STANDARD
TZOFFSETFROM:+0000
TZOFFSETTO:+0000
TZNAME:UTC
DTSTART:20220101T000000
END:STANDARD
END:VTIMEZONE
BEGIN:VEVENT
DTSTART;TZID=UTC:20230205T130000
DTEND;TZID=UTC:20230205T150000
DTSTAMP:20260422T110155
CREATED:20230118T192254Z
LAST-MODIFIED:20230118T192254Z
UID:2940-1675602000-1675609200@knoxvkh.ca
SUMMARY:Let's Build Community This Winter!! Join Joyce Dowlath & Friends to learn to prepare Traditional Trinidadian Treats
DESCRIPTION:
URL:https://knoxvkh.ca/event/lets-build-community-this-winter-join-joyce-dowlath-friends-to-learn-to-prepare-traditional-trinidadian-treats-2/
END:VEVENT
BEGIN:VEVENT
DTSTART;TZID=UTC:20230129T110000
DTEND;TZID=UTC:20230129T120000
DTSTAMP:20260422T110155
CREATED:20220724T160336Z
LAST-MODIFIED:20220724T160336Z
UID:2931-1674990000-1674993600@knoxvkh.ca
SUMMARY:Worship in Person and Online
DESCRIPTION:
URL:https://knoxvkh.ca/event/worship-in-person-and-online-29/
END:VEVENT
BEGIN:VEVENT
DTSTART;TZID=UTC:20230124T190000
DTEND;TZID=UTC:20230124T210000
DTSTAMP:20260422T110155
CREATED:20230124T173948Z
LAST-MODIFIED:20230124T173948Z
UID:2957-1674586800-1674594000@knoxvkh.ca
SUMMARY:Kox Session Meeting
DESCRIPTION:
URL:https://knoxvkh.ca/event/kox-session-meeting/
END:VEVENT
BEGIN:VEVENT
DTSTART;TZID=UTC:20230122T190000
DTEND;TZID=UTC:20230122T203000
DTSTAMP:20260422T110155
CREATED:20230118T201803Z
LAST-MODIFIED:20230118T201803Z
UID:2954-1674414000-1674419400@knoxvkh.ca
SUMMARY:Knox at Night
DESCRIPTION:
URL:https://knoxvkh.ca/event/knox-at-night/
END:VEVENT
BEGIN:VEVENT
DTSTART;TZID=UTC:20230122T130000
DTEND;TZID=UTC:20230122T150000
DTSTAMP:20260422T110155
CREATED:20230118T191832Z
LAST-MODIFIED:20230118T191832Z
UID:2938-1674392400-1674399600@knoxvkh.ca
SUMMARY:Let's Build Community This Winter!! Join Joyce Dowlath & Friends to learn to prepare Traditional Trinidadian Treats
DESCRIPTION:
URL:https://knoxvkh.ca/event/lets-build-community-this-winter-join-joyce-dowlath-friends-to-learn-to-prepare-traditional-trinidadian-treats/
END:VEVENT
BEGIN:VEVENT
DTSTART;TZID=UTC:20230122T110000
DTEND;TZID=UTC:20230122T120000
DTSTAMP:20260422T110155
CREATED:20220724T160139Z
LAST-MODIFIED:20220724T160139Z
UID:2929-1674385200-1674388800@knoxvkh.ca
SUMMARY:Worship in Person and Online
DESCRIPTION:
URL:https://knoxvkh.ca/event/worship-in-person-and-online-28/
END:VEVENT
BEGIN:VEVENT
DTSTART;TZID=UTC:20230122T080000
DTEND;TZID=UTC:20230122T080000
DTSTAMP:20260422T110155
CREATED:20220724T155950Z
LAST-MODIFIED:20220724T155950Z
UID:2927-1674374400-1674374400@knoxvkh.ca
SUMMARY:Worship in Person and Online
DESCRIPTION:
URL:https://knoxvkh.ca/event/worship-in-person-and-online-27/
END:VEVENT
BEGIN:VEVENT
DTSTART;TZID=UTC:20230115T110000
DTEND;TZID=UTC:20230115T120000
DTSTAMP:20260422T110155
CREATED:20220724T155849Z
LAST-MODIFIED:20220724T155849Z
UID:2925-1673780400-1673784000@knoxvkh.ca
SUMMARY:Worship in Person and Online
DESCRIPTION:
URL:https://knoxvkh.ca/event/worship-in-person-and-online-26/
END:VEVENT
BEGIN:VEVENT
DTSTART;TZID=UTC:20230108T110000
DTEND;TZID=UTC:20230108T120000
DTSTAMP:20260422T110155
CREATED:20220724T155707Z
LAST-MODIFIED:20220724T155707Z
UID:2923-1673175600-1673179200@knoxvkh.ca
SUMMARY:Worship in Person and Online
DESCRIPTION:
URL:https://knoxvkh.ca/event/worship-in-person-and-online-25/
END:VEVENT
BEGIN:VEVENT
DTSTART;TZID=UTC:20230101T110000
DTEND;TZID=UTC:20230101T120000
DTSTAMP:20260422T110155
CREATED:20220724T155258Z
LAST-MODIFIED:20220724T155452Z
UID:2921-1672570800-1672574400@knoxvkh.ca
SUMMARY:Worship in Person and Online
DESCRIPTION:
URL:https://knoxvkh.ca/event/worship-in-person-and-online-24/
END:VEVENT
BEGIN:VEVENT
DTSTART;TZID=UTC:20221225T110000
DTEND;TZID=UTC:20221225T120000
DTSTAMP:20260422T110155
CREATED:20220724T155143Z
LAST-MODIFIED:20220724T155143Z
UID:2919-1671966000-1671969600@knoxvkh.ca
SUMMARY:Worship in Person and Online
DESCRIPTION:
URL:https://knoxvkh.ca/event/worship-in-person-and-online-23/
END:VEVENT
BEGIN:VEVENT
DTSTART;TZID=UTC:20221218T110000
DTEND;TZID=UTC:20221218T120000
DTSTAMP:20260422T110155
CREATED:20220724T155005Z
LAST-MODIFIED:20220724T155005Z
UID:2917-1671361200-1671364800@knoxvkh.ca
SUMMARY:Worship in Person and Online
DESCRIPTION:
URL:https://knoxvkh.ca/event/worship-in-person-and-online-21/
END:VEVENT
BEGIN:VEVENT
DTSTART;TZID=UTC:20221211T110000
DTEND;TZID=UTC:20221211T110000
DTSTAMP:20260422T110155
CREATED:20220724T154129Z
LAST-MODIFIED:20220724T154218Z
UID:2911-1670756400-1670756400@knoxvkh.ca
SUMMARY:Worship in Person and Online
DESCRIPTION:
URL:https://knoxvkh.ca/event/worship-in-person-and-online-22/
END:VEVENT
BEGIN:VEVENT
DTSTART;TZID=UTC:20221204T110000
DTEND;TZID=UTC:20221204T120000
DTSTAMP:20260422T110155
CREATED:20220724T154837Z
LAST-MODIFIED:20220724T154837Z
UID:2915-1670151600-1670155200@knoxvkh.ca
SUMMARY:Worship in Person and Online
DESCRIPTION:
URL:https://knoxvkh.ca/event/worship-in-person-and-online-20/
END:VEVENT
BEGIN:VEVENT
DTSTART;VALUE=DATE:20221126
DTEND;VALUE=DATE:20221127
DTSTAMP:20260422T110155
CREATED:20220723T194345Z
LAST-MODIFIED:20220723T194345Z
UID:2907-1669420800-1669420800@knoxvkh.ca
SUMMARY:Annual Book Sale
DESCRIPTION:
URL:https://knoxvkh.ca/event/annual-book-sale/
END:VEVENT
BEGIN:VEVENT
DTSTART;VALUE=DATE:20221125
DTEND;VALUE=DATE:20221126
DTSTAMP:20260422T110155
CREATED:20220723T193245Z
LAST-MODIFIED:20220723T194041Z
UID:2901-1669334400-1669420799@knoxvkh.ca
SUMMARY:Soup & Sandwich Luncheon Annual Book Sale
DESCRIPTION:
URL:https://knoxvkh.ca/event/soup-and-sandwich-11-1230-and-annual-book-sale/
END:VEVENT
BEGIN:VEVENT
DTSTART;TZID=UTC:20221120T110000
DTEND;TZID=UTC:20221120T120000
DTSTAMP:20260422T110155
CREATED:20220723T191626Z
LAST-MODIFIED:20220723T191626Z
UID:2889-1668942000-1668945600@knoxvkh.ca
SUMMARY:Worship in Person and Online
DESCRIPTION:
URL:https://knoxvkh.ca/event/worship-in-person-and-online-18/
END:VEVENT
BEGIN:VEVENT
DTSTART;TZID=UTC:20221113T110000
DTEND;TZID=UTC:20221113T120000
DTSTAMP:20260422T110155
CREATED:20220723T191346Z
LAST-MODIFIED:20220723T191346Z
UID:2887-1668337200-1668340800@knoxvkh.ca
SUMMARY:Worship in Person and Online
DESCRIPTION:
URL:https://knoxvkh.ca/event/worship-in-person-and-online-17/
END:VEVENT
BEGIN:VEVENT
DTSTART;TZID=UTC:20221106T110000
DTEND;TZID=UTC:20221106T120000
DTSTAMP:20260422T110155
CREATED:20220723T191233Z
LAST-MODIFIED:20220723T191233Z
UID:2885-1667732400-1667736000@knoxvkh.ca
SUMMARY:Worship in Person and Online
DESCRIPTION:
URL:https://knoxvkh.ca/event/worship-in-person-and-online-16/
END:VEVENT
BEGIN:VEVENT
DTSTART;TZID=UTC:20221030T110000
DTEND;TZID=UTC:20221030T120000
DTSTAMP:20260422T110155
CREATED:20220723T185522Z
LAST-MODIFIED:20220723T185522Z
UID:2883-1667127600-1667131200@knoxvkh.ca
SUMMARY:Worship in Person and Online
DESCRIPTION:
URL:https://knoxvkh.ca/event/worship-in-person-and-online-15/
END:VEVENT
BEGIN:VEVENT
DTSTART;TZID=UTC:20221023T110000
DTEND;TZID=UTC:20221023T120000
DTSTAMP:20260422T110155
CREATED:20220723T185412Z
LAST-MODIFIED:20220723T185412Z
UID:2881-1666522800-1666526400@knoxvkh.ca
SUMMARY:Worship in Person and Online
DESCRIPTION:
URL:https://knoxvkh.ca/event/worship-in-person-and-online-14/
END:VEVENT
BEGIN:VEVENT
DTSTART;TZID=UTC:20221016T110000
DTEND;TZID=UTC:20221016T120000
DTSTAMP:20260422T110155
CREATED:20220723T185058Z
LAST-MODIFIED:20220723T185058Z
UID:2877-1665918000-1665921600@knoxvkh.ca
SUMMARY:Worship in Person and Online
DESCRIPTION:
URL:https://knoxvkh.ca/event/worship-in-person-and-online-12/
END:VEVENT
BEGIN:VEVENT
DTSTART;TZID=UTC:20221009T110000
DTEND;TZID=UTC:20221009T120000
DTSTAMP:20260422T110155
CREATED:20220723T184825Z
LAST-MODIFIED:20220723T184925Z
UID:2875-1665313200-1665316800@knoxvkh.ca
SUMMARY:Worship in Person and Online
DESCRIPTION:
URL:https://knoxvkh.ca/event/worship-in-person-and-online-11/
END:VEVENT
BEGIN:VEVENT
DTSTART;TZID=UTC:20221002T110000
DTEND;TZID=UTC:20221002T120000
DTSTAMP:20260422T110155
CREATED:20220723T184651Z
LAST-MODIFIED:20220723T184651Z
UID:2873-1664708400-1664712000@knoxvkh.ca
SUMMARY:Worship in Person and Online
DESCRIPTION:
URL:https://knoxvkh.ca/event/worship-in-person-and-online-10/
END:VEVENT
BEGIN:VEVENT
DTSTART;TZID=UTC:20220925T110000
DTEND;TZID=UTC:20220925T120000
DTSTAMP:20260422T110155
CREATED:20220723T184429Z
LAST-MODIFIED:20220723T184429Z
UID:2871-1664103600-1664107200@knoxvkh.ca
SUMMARY:Worship in Person and Online
DESCRIPTION:
URL:https://knoxvkh.ca/event/worship-in-person-and-online-9/
END:VEVENT
BEGIN:VEVENT
DTSTART;TZID=UTC:20220918T120000
DTEND;TZID=UTC:20220918T120000
DTSTAMP:20260422T110155
CREATED:20220723T184332Z
LAST-MODIFIED:20220723T184332Z
UID:2869-1663502400-1663502400@knoxvkh.ca
SUMMARY:Worship in Person and Online
DESCRIPTION:
URL:https://knoxvkh.ca/event/worship-in-person-and-online-8/
END:VEVENT
BEGIN:VEVENT
DTSTART;TZID=UTC:20220911T110000
DTEND;TZID=UTC:20220911T120000
DTSTAMP:20260422T110155
CREATED:20220723T183123Z
LAST-MODIFIED:20220723T183201Z
UID:2865-1662894000-1662897600@knoxvkh.ca
SUMMARY:Worship in Person and Online
DESCRIPTION:
URL:https://knoxvkh.ca/event/worship-in-person-and-online-6/
END:VEVENT
BEGIN:VEVENT
DTSTART;TZID=UTC:20220904T110000
DTEND;TZID=UTC:20220904T120000
DTSTAMP:20260422T110155
CREATED:20220723T183316Z
LAST-MODIFIED:20220723T184232Z
UID:2867-1662289200-1662292800@knoxvkh.ca
SUMMARY:Worship in Person and Online
DESCRIPTION:
URL:https://knoxvkh.ca/event/worship-in-person-and-online-7/
END:VEVENT
BEGIN:VEVENT
DTSTART;TZID=UTC:20220828T110000
DTEND;TZID=UTC:20220828T120000
DTSTAMP:20260422T110155
CREATED:20220723T182910Z
LAST-MODIFIED:20220723T182910Z
UID:2863-1661684400-1661688000@knoxvkh.ca
SUMMARY:Worship in Person and Online
DESCRIPTION:
URL:https://knoxvkh.ca/event/worship-in-person-and-online-5/
END:VEVENT
BEGIN:VEVENT
DTSTART;TZID=UTC:20220821T110000
DTEND;TZID=UTC:20220821T120000
DTSTAMP:20260422T110155
CREATED:20220723T170302Z
LAST-MODIFIED:20220723T170302Z
UID:2860-1661079600-1661083200@knoxvkh.ca
SUMMARY:Worship in Person and Online
DESCRIPTION:
URL:https://knoxvkh.ca/event/worship-in-person-and-online-4/
END:VEVENT
END:VCALENDAR