BEGIN:VCALENDAR
VERSION:2.0
PRODID:-//Knox Presbyterian Church - ECPv6.6.4.2//NONSGML v1.0//EN
CALSCALE:GREGORIAN
METHOD:PUBLISH
X-WR-CALNAME:Knox Presbyterian Church
X-ORIGINAL-URL:https://knoxvkh.ca
X-WR-CALDESC:Events for Knox Presbyterian Church
REFRESH-INTERVAL;VALUE=DURATION:PT1H
X-Robots-Tag:noindex
X-PUBLISHED-TTL:PT1H
BEGIN:VTIMEZONE
TZID:UTC
BEGIN:STANDARD
TZOFFSETFROM:+0000
TZOFFSETTO:+0000
TZNAME:UTC
DTSTART:20210101T000000
END:STANDARD
END:VTIMEZONE
BEGIN:VEVENT
DTSTART;TZID=UTC:20210606T110000
DTEND;TZID=UTC:20210606T120000
DTSTAMP:20260422T192811
CREATED:20210319T210945Z
LAST-MODIFIED:20210319T211502Z
UID:2773-1622977200-1622980800@knoxvkh.ca
SUMMARY:Worship       Watch on Knox's Facebook and Youtube pages
DESCRIPTION:
URL:https://knoxvkh.ca/event/worship-watch-on-knoxs-facebook-and-youtube-pages-10/
END:VEVENT
BEGIN:VEVENT
DTSTART;TZID=UTC:20210530T110000
DTEND;TZID=UTC:20210530T123000
DTSTAMP:20260422T192811
CREATED:20210319T210230Z
LAST-MODIFIED:20210319T210230Z
UID:2767-1622372400-1622377800@knoxvkh.ca
SUMMARY:Trinity Sunday
DESCRIPTION:
URL:https://knoxvkh.ca/event/trinity-sunday/
END:VEVENT
BEGIN:VEVENT
DTSTART;TZID=UTC:20210530T110000
DTEND;TZID=UTC:20210530T120000
DTSTAMP:20260422T192811
CREATED:20210319T210332Z
LAST-MODIFIED:20210319T210332Z
UID:2769-1622372400-1622376000@knoxvkh.ca
SUMMARY:Worship       Watch on Knox's Facebook and Youtube pages
DESCRIPTION:
URL:https://knoxvkh.ca/event/worship-watch-on-knoxs-facebook-and-youtube-pages-9/
END:VEVENT
BEGIN:VEVENT
DTSTART;TZID=UTC:20210528T100000
DTEND;TZID=UTC:20210529T163000
DTSTAMP:20260422T192811
CREATED:20210401T182801Z
LAST-MODIFIED:20210401T182801Z
UID:2801-1622196000-1622305800@knoxvkh.ca
SUMMARY:Book Sale
DESCRIPTION:
URL:https://knoxvkh.ca/event/book-sale-3/
END:VEVENT
BEGIN:VEVENT
DTSTART;TZID=UTC:20210523T110000
DTEND;TZID=UTC:20210523T120000
DTSTAMP:20260422T192811
CREATED:20210319T210051Z
LAST-MODIFIED:20210319T210051Z
UID:2765-1621767600-1621771200@knoxvkh.ca
SUMMARY:Worship       Watch on Knox's Facebook and Youtube pages
DESCRIPTION:
URL:https://knoxvkh.ca/event/worship-watch-on-knoxs-facebook-and-youtube-pages-8/
END:VEVENT
BEGIN:VEVENT
DTSTART;TZID=UTC:20210523T110000
DTEND;TZID=UTC:20210523T120000
DTSTAMP:20260422T192811
CREATED:20210319T205832Z
LAST-MODIFIED:20210319T205832Z
UID:2763-1621767600-1621771200@knoxvkh.ca
SUMMARY:Pentecost
DESCRIPTION:
URL:https://knoxvkh.ca/event/pentecost/
END:VEVENT
BEGIN:VEVENT
DTSTART;TZID=UTC:20210521T100000
DTEND;TZID=UTC:20210522T163000
DTSTAMP:20260422T192811
CREATED:20210401T182659Z
LAST-MODIFIED:20210401T184331Z
UID:2799-1621591200-1621701000@knoxvkh.ca
SUMMARY:Book Sale
DESCRIPTION:
URL:https://knoxvkh.ca/event/book-sale-2/
END:VEVENT
BEGIN:VEVENT
DTSTART;VALUE=DATE:20210521
DTEND;VALUE=DATE:20210523
DTSTAMP:20260422T192811
CREATED:20210401T182545Z
LAST-MODIFIED:20210401T184228Z
UID:2797-1621555200-1621727999@knoxvkh.ca
SUMMARY:Electric Recycling
DESCRIPTION:
URL:https://knoxvkh.ca/event/electric-recycling/
END:VEVENT
BEGIN:VEVENT
DTSTART;TZID=UTC:20210516T110000
DTEND;TZID=UTC:20210516T120000
DTSTAMP:20260422T192811
CREATED:20210319T205705Z
LAST-MODIFIED:20210319T205705Z
UID:2761-1621162800-1621166400@knoxvkh.ca
SUMMARY:Ascension Sunday
DESCRIPTION:
URL:https://knoxvkh.ca/event/ascension-sunday/
END:VEVENT
BEGIN:VEVENT
DTSTART;TZID=UTC:20210516T110000
DTEND;TZID=UTC:20210516T120000
DTSTAMP:20260422T192811
CREATED:20210319T205443Z
LAST-MODIFIED:20210418T152757Z
UID:2759-1621162800-1621166400@knoxvkh.ca
SUMMARY:Worship       Watch on Knox's Facebook and Youtube pages
DESCRIPTION:Good evening Folks\, \n  \nAs you have likely heard\, the Ontario government has made some additional changes to the Stay-At- Home order for our province. \n  \nWe will still be able to worship in person this Sunday\, April 18th\, to a maximum capacity of 15 % or 45 persons. \n  \nEffective Sunday\, April 25th\, Knox will be closed for in-person worship. \nWe will continue to live-stream the service on YouTube and Facebook every Sunday morning at 11 am. \n  \nShould you have any questions or concerns\, please do not hesitate to contact your elder\, me or Rev. James. \n  \nAlways trusting\, \n  \nRobin
URL:https://knoxvkh.ca/event/worship-watch-on-knoxs-facebook-and-youtube-pages-7/
END:VEVENT
BEGIN:VEVENT
DTSTART;TZID=UTC:20210509T110000
DTEND;TZID=UTC:20210509T120000
DTSTAMP:20260422T192811
CREATED:20210319T205137Z
LAST-MODIFIED:20210418T152703Z
UID:2757-1620558000-1620561600@knoxvkh.ca
SUMMARY:Worship       Watch on Knox's Facebook and Youtube pages
DESCRIPTION:Good evening Folks\, \n  \nAs you have likely heard\, the Ontario government has made some additional changes to the Stay-At- Home order for our province. \n  \nWe will still be able to worship in person this Sunday\, April 18th\, to a maximum capacity of 15 % or 45 persons. \n  \nEffective Sunday\, April 25th\, Knox will be closed for in-person worship. \nWe will continue to live-stream the service on YouTube and Facebook every Sunday morning at 11 am. \n  \nShould you have any questions or concerns\, please do not hesitate to contact your elder\, me or Rev. James. \n  \nAlways trusting\, \n  \nRobin
URL:https://knoxvkh.ca/event/worship-watch-on-knoxs-facebook-and-youtube-pages-6/
END:VEVENT
BEGIN:VEVENT
DTSTART;TZID=UTC:20210502T110000
DTEND;TZID=UTC:20210502T120000
DTSTAMP:20260422T192811
CREATED:20210319T205017Z
LAST-MODIFIED:20210418T152607Z
UID:2755-1619953200-1619956800@knoxvkh.ca
SUMMARY:Worship       Watch on Knox's Facebook and Youtube pages
DESCRIPTION:Good evening Folks\, \n  \nAs you have likely heard\, the Ontario government has made some additional changes to the Stay-At- Home order for our province. \n  \nWe will still be able to worship in person this Sunday\, April 18th\, to a maximum capacity of 15 % or 45 persons. \n  \nEffective Sunday\, April 25th\, Knox will be closed for in-person worship. \nWe will continue to live-stream the service on YouTube and Facebook every Sunday morning at 11 am. \n  \nShould you have any questions or concerns\, please do not hesitate to contact your elder\, me or Rev. James. \n  \nAlways trusting\, \n  \nRobin
URL:https://knoxvkh.ca/event/worship-watch-on-knoxs-facebook-and-youtube-pages-5/
END:VEVENT
BEGIN:VEVENT
DTSTART;TZID=UTC:20210425T110000
DTEND;TZID=UTC:20210425T120000
DTSTAMP:20260422T192811
CREATED:20210319T204843Z
LAST-MODIFIED:20210418T152539Z
UID:2753-1619348400-1619352000@knoxvkh.ca
SUMMARY:Worship       Watch on Knox's Facebook and Youtube pages
DESCRIPTION:Good evening Folks\, \n  \nAs you have likely heard\, the Ontario government has made some additional changes to the Stay-At- Home order for our province. \n  \nWe will still be able to worship in person this Sunday\, April 18th\, to a maximum capacity of 15 % or 45 persons. \n  \nEffective Sunday\, April 25th\, Knox will be closed for in-person worship. \nWe will continue to live-stream the service on YouTube and Facebook every Sunday morning at 11 am. \n  \nShould you have any questions or concerns\, please do not hesitate to contact your elder\, me or Rev. James. \n  \nAlways trusting\, \n  \nRobin
URL:https://knoxvkh.ca/event/worship-watch-on-knoxs-facebook-and-youtube-pages-4/
END:VEVENT
BEGIN:VEVENT
DTSTART;TZID=UTC:20210418T110000
DTEND;TZID=UTC:20210418T120000
DTSTAMP:20260422T192811
CREATED:20210319T204732Z
LAST-MODIFIED:20210319T204732Z
UID:2751-1618743600-1618747200@knoxvkh.ca
SUMMARY:Worship       Watch on Knox's Facebook and Youtube pages
DESCRIPTION:
URL:https://knoxvkh.ca/event/worship-watch-on-knoxs-facebook-and-youtube-pages-3/
END:VEVENT
BEGIN:VEVENT
DTSTART;TZID=UTC:20210411T120000
DTEND;TZID=UTC:20210411T140000
DTSTAMP:20260422T192811
CREATED:20210401T182431Z
LAST-MODIFIED:20210404T162832Z
UID:2795-1618142400-1618149600@knoxvkh.ca
SUMMARY:Annual General Meeting    THIS HAS BEEN POSTPONED
DESCRIPTION:
URL:https://knoxvkh.ca/event/annual-general-meeting/
END:VEVENT
BEGIN:VEVENT
DTSTART;TZID=UTC:20210411T110000
DTEND;TZID=UTC:20210411T120000
DTSTAMP:20260422T192811
CREATED:20210319T204610Z
LAST-MODIFIED:20210319T204610Z
UID:2749-1618138800-1618142400@knoxvkh.ca
SUMMARY:Worship       Watch on Knox's Facebook and Youtube pages
DESCRIPTION:
URL:https://knoxvkh.ca/event/worship-watch-on-knoxs-facebook-and-youtube-pages-2/
END:VEVENT
BEGIN:VEVENT
DTSTART;TZID=UTC:20210404T110000
DTEND;TZID=UTC:20210404T120000
DTSTAMP:20260422T192811
CREATED:20210319T204456Z
LAST-MODIFIED:20210319T204456Z
UID:2747-1617534000-1617537600@knoxvkh.ca
SUMMARY:Easter
DESCRIPTION:
URL:https://knoxvkh.ca/event/easter/
END:VEVENT
BEGIN:VEVENT
DTSTART;TZID=UTC:20210404T110000
DTEND;TZID=UTC:20210404T120000
DTSTAMP:20260422T192811
CREATED:20210202T224700Z
LAST-MODIFIED:20210202T232048Z
UID:2706-1617534000-1617537600@knoxvkh.ca
SUMMARY:Worship       Watch on Knox's Facebook and Youtube pages
DESCRIPTION:
URL:https://knoxvkh.ca/event/worship-11-am-watch-on-knoxs-facebook-and-youtube-pages-7/
END:VEVENT
BEGIN:VEVENT
DTSTART;TZID=UTC:20210402T070000
DTEND;TZID=UTC:20210402T200000
DTSTAMP:20260422T192811
CREATED:20210319T204247Z
LAST-MODIFIED:20210402T164231Z
UID:2745-1617346800-1617393600@knoxvkh.ca
SUMMARY:Good Friday  Can be seen on Knox FB page\, or Knox's YouTube page
DESCRIPTION:
URL:https://knoxvkh.ca/event/good-friday/
END:VEVENT
BEGIN:VEVENT
DTSTART;VALUE=DATE:20210401
DTEND;VALUE=DATE:20210402
DTSTAMP:20260422T192811
CREATED:20210319T204141Z
LAST-MODIFIED:20210319T204141Z
UID:2743-1617235200-1617321599@knoxvkh.ca
SUMMARY:Maundy Thursday
DESCRIPTION:
URL:https://knoxvkh.ca/event/maundy-thursday/
END:VEVENT
BEGIN:VEVENT
DTSTART;TZID=UTC:20210328T110000
DTEND;TZID=UTC:20210328T120000
DTSTAMP:20260422T192811
CREATED:20210319T203756Z
LAST-MODIFIED:20210319T203941Z
UID:2741-1616929200-1616932800@knoxvkh.ca
SUMMARY:Worship       Watch on Knox's Facebook and Youtube pages
DESCRIPTION:
URL:https://knoxvkh.ca/event/worship-watch-on-knoxs-facebook-and-youtube-pages/
END:VEVENT
BEGIN:VEVENT
DTSTART;TZID=UTC:20210328T110000
DTEND;TZID=UTC:20210328T120000
DTSTAMP:20260422T192811
CREATED:20210319T193930Z
LAST-MODIFIED:20210319T203615Z
UID:2734-1616929200-1616932800@knoxvkh.ca
SUMMARY:Palm Sunday~ Holy Communion                                                     `
DESCRIPTION:
URL:https://knoxvkh.ca/event/palm-sunday/
END:VEVENT
BEGIN:VEVENT
DTSTART;TZID=UTC:20210321T110000
DTEND;TZID=UTC:20210321T120000
DTSTAMP:20260422T192811
CREATED:20210316T011408Z
LAST-MODIFIED:20210316T011530Z
UID:2732-1616324400-1616328000@knoxvkh.ca
SUMMARY:Lent 5
DESCRIPTION:
URL:https://knoxvkh.ca/event/lent-5/
END:VEVENT
BEGIN:VEVENT
DTSTART;TZID=UTC:20210321T080000
DTEND;TZID=UTC:20210321T170000
DTSTAMP:20260422T192811
CREATED:20210202T224501Z
LAST-MODIFIED:20210202T224501Z
UID:2702-1616313600-1616346000@knoxvkh.ca
SUMMARY:Worship 11 am    Watch on Knox's Facebook and Youtube pages
DESCRIPTION:
URL:https://knoxvkh.ca/event/worship-11-am-watch-on-knoxs-facebook-and-youtube-pages-6/
END:VEVENT
BEGIN:VEVENT
DTSTART;TZID=UTC:20210319T120000
DTEND;TZID=UTC:20210319T133000
DTSTAMP:20260422T192811
CREATED:20210319T215820Z
LAST-MODIFIED:20210319T215820Z
UID:2792-1616155200-1616160600@knoxvkh.ca
SUMMARY:Annual Meeting
DESCRIPTION:
URL:https://knoxvkh.ca/event/annual-meeting/
END:VEVENT
BEGIN:VEVENT
DTSTART;TZID=UTC:20210319T110000
DTEND;TZID=UTC:20210319T120000
DTSTAMP:20260422T192811
CREATED:20210319T214708Z
LAST-MODIFIED:20210319T214708Z
UID:2781-1616151600-1616155200@knoxvkh.ca
SUMMARY:Worship       Watch on Knox's Facebook and Youtube pages
DESCRIPTION:
URL:https://knoxvkh.ca/event/worship-watch-on-knoxs-facebook-and-youtube-pages-14/
END:VEVENT
BEGIN:VEVENT
DTSTART;TZID=UTC:20210319T110000
DTEND;TZID=UTC:20210319T120000
DTSTAMP:20260422T192811
CREATED:20210319T214400Z
LAST-MODIFIED:20210319T214400Z
UID:2779-1616151600-1616155200@knoxvkh.ca
SUMMARY:Worship       Watch on Knox's Facebook and Youtube pages
DESCRIPTION:
URL:https://knoxvkh.ca/event/worship-watch-on-knoxs-facebook-and-youtube-pages-13/
END:VEVENT
BEGIN:VEVENT
DTSTART;TZID=UTC:20210319T110000
DTEND;TZID=UTC:20210319T120000
DTSTAMP:20260422T192811
CREATED:20210319T211221Z
LAST-MODIFIED:20210319T211628Z
UID:2775-1616151600-1616155200@knoxvkh.ca
SUMMARY:Worship       Watch on Knox's Facebook and Youtube pages
DESCRIPTION:
URL:https://knoxvkh.ca/event/worship-watch-on-knoxs-facebook-and-youtube-pages-11/
END:VEVENT
BEGIN:VEVENT
DTSTART;TZID=UTC:20210319T100000
DTEND;TZID=UTC:20210319T140000
DTSTAMP:20260422T192811
CREATED:20210319T211833Z
LAST-MODIFIED:20210319T211833Z
UID:2777-1616148000-1616162400@knoxvkh.ca
SUMMARY:Worship       Watch on Knox's Facebook and Youtube pages
DESCRIPTION:
URL:https://knoxvkh.ca/event/worship-watch-on-knoxs-facebook-and-youtube-pages-12/
END:VEVENT
BEGIN:VEVENT
DTSTART;TZID=UTC:20210314T110000
DTEND;TZID=UTC:20210314T120000
DTSTAMP:20260422T192811
CREATED:20210316T011037Z
LAST-MODIFIED:20210316T011037Z
UID:2727-1615719600-1615723200@knoxvkh.ca
SUMMARY:Lent 3
DESCRIPTION:
URL:https://knoxvkh.ca/event/lent-3/
END:VEVENT
END:VCALENDAR