BEGIN:VCALENDAR
VERSION:2.0
PRODID:-//Knox Presbyterian Church - ECPv6.6.4.2//NONSGML v1.0//EN
CALSCALE:GREGORIAN
METHOD:PUBLISH
X-WR-CALNAME:Knox Presbyterian Church
X-ORIGINAL-URL:https://knoxvkh.ca
X-WR-CALDESC:Events for Knox Presbyterian Church
REFRESH-INTERVAL;VALUE=DURATION:PT1H
X-Robots-Tag:noindex
X-PUBLISHED-TTL:PT1H
BEGIN:VTIMEZONE
TZID:UTC
BEGIN:STANDARD
TZOFFSETFROM:+0000
TZOFFSETTO:+0000
TZNAME:UTC
DTSTART:20240101T000000
END:STANDARD
END:VTIMEZONE
BEGIN:VEVENT
DTSTART;TZID=UTC:20250202T110000
DTEND;TZID=UTC:20250202T130000
DTSTAMP:20260419T151051
CREATED:20250203T224138Z
LAST-MODIFIED:20250203T224138Z
UID:3717-1738494000-1738501200@knoxvkh.ca
SUMMARY:Worship in person or online
DESCRIPTION:
URL:https://knoxvkh.ca/event/worship-in-person-or-online/
END:VEVENT
BEGIN:VEVENT
DTSTART;TZID=UTC:20250107T130000
DTEND;TZID=UTC:20250107T150000
DTSTAMP:20260419T151051
CREATED:20241111T202015Z
LAST-MODIFIED:20241111T202155Z
UID:3694-1736254800-1736262000@knoxvkh.ca
SUMMARY:Heritage Lodge
DESCRIPTION:
URL:https://knoxvkh.ca/event/free-skating-arenafrom-11am-till-noon-followed-by-hot-dogs-hot-chocolate-at-knox/
END:VEVENT
BEGIN:VEVENT
DTSTART;TZID=UTC:20241229T110000
DTEND;TZID=UTC:20241229T123000
DTSTAMP:20260419T151051
CREATED:20241111T201333Z
LAST-MODIFIED:20241111T201518Z
UID:3690-1735470000-1735475400@knoxvkh.ca
SUMMARY:Worship in person and online
DESCRIPTION:
URL:https://knoxvkh.ca/event/christmas-lunch/
END:VEVENT
BEGIN:VEVENT
DTSTART;TZID=UTC:20241228T120000
DTEND;TZID=UTC:20241228T150000
DTSTAMP:20260419T151051
CREATED:20241224T190842Z
LAST-MODIFIED:20241224T190842Z
UID:3714-1735387200-1735398000@knoxvkh.ca
SUMMARY:Why be alone? You are invited to come and enjoy a traditional Christmas dinner and fellowship.  Saturday December 28th at 12 noon at the Archie Hardy Hall\, Knox Presbyterian Church. There is no cost\, but please register ahead by calling Robin at 613-676-0443. People of all ages are welcome.
DESCRIPTION:
URL:https://knoxvkh.ca/event/why-be-alone-you-are-invited-to-come-and-enjoy-a-traditional-christmas-dinner-and-fellowship-saturday-december-28th-at-12-noon-at-the-archie-hardy-hall-knox-presbyterian-church-there-is-no-cost/
END:VEVENT
BEGIN:VEVENT
DTSTART;TZID=UTC:20241224T190000
DTEND;TZID=UTC:20241224T203000
DTSTAMP:20260419T151051
CREATED:20241111T201212Z
LAST-MODIFIED:20241111T201212Z
UID:3688-1735066800-1735072200@knoxvkh.ca
SUMMARY:Christmas Eve
DESCRIPTION:
URL:https://knoxvkh.ca/event/christmas-eve-2/
END:VEVENT
BEGIN:VEVENT
DTSTART;TZID=UTC:20241222T110000
DTEND;TZID=UTC:20241222T130000
DTSTAMP:20260419T151051
CREATED:20241111T200938Z
LAST-MODIFIED:20241111T200938Z
UID:3686-1734865200-1734872400@knoxvkh.ca
SUMMARY:Advent 4  Love  & Sunday School Pagent
DESCRIPTION:
URL:https://knoxvkh.ca/event/advent-4-love-sunday-school-pagent/
END:VEVENT
BEGIN:VEVENT
DTSTART;TZID=UTC:20241215T150000
DTEND;TZID=UTC:20241215T170000
DTSTAMP:20260419T151051
CREATED:20241111T200613Z
LAST-MODIFIED:20241111T200700Z
UID:3683-1734274800-1734282000@knoxvkh.ca
SUMMARY:Accord Concert  Knox
DESCRIPTION:
URL:https://knoxvkh.ca/event/accord-concert/
END:VEVENT
BEGIN:VEVENT
DTSTART;TZID=UTC:20241215T140000
DTEND;TZID=UTC:20241215T150000
DTSTAMP:20260419T151051
CREATED:20241111T200420Z
LAST-MODIFIED:20241111T200420Z
UID:3681-1734271200-1734274800@knoxvkh.ca
SUMMARY:Blue Christmas
DESCRIPTION:
URL:https://knoxvkh.ca/event/blue-christmas/
END:VEVENT
BEGIN:VEVENT
DTSTART;TZID=UTC:20241215T110000
DTEND;TZID=UTC:20241215T133000
DTSTAMP:20260419T151051
CREATED:20241111T200236Z
LAST-MODIFIED:20241111T200236Z
UID:3679-1734260400-1734269400@knoxvkh.ca
SUMMARY:Advent 3  Joy    Worship in person and online
DESCRIPTION:
URL:https://knoxvkh.ca/event/advent-3-joy-worship-in-person-and-online/
END:VEVENT
BEGIN:VEVENT
DTSTART;TZID=UTC:20241208T110000
DTEND;TZID=UTC:20241208T133000
DTSTAMP:20260419T151051
CREATED:20241111T195927Z
LAST-MODIFIED:20241111T195958Z
UID:3677-1733655600-1733664600@knoxvkh.ca
SUMMARY:Advent 2 Peace   Worship Online & in person
DESCRIPTION:
URL:https://knoxvkh.ca/event/advent-2-peace-worship-online-in-person/
END:VEVENT
BEGIN:VEVENT
DTSTART;TZID=UTC:20241207T100000
DTEND;TZID=UTC:20241207T160000
DTSTAMP:20260419T151051
CREATED:20241112T184226Z
LAST-MODIFIED:20241112T191057Z
UID:3709-1733565600-1733587200@knoxvkh.ca
SUMMARY:Book Sale
DESCRIPTION:
URL:https://knoxvkh.ca/event/book-sale-21/
END:VEVENT
BEGIN:VEVENT
DTSTART;TZID=UTC:20241206T100000
DTEND;TZID=UTC:20241206T160000
DTSTAMP:20260419T151051
CREATED:20241112T184113Z
LAST-MODIFIED:20241112T184649Z
UID:3707-1733479200-1733500800@knoxvkh.ca
SUMMARY:Book Sale
DESCRIPTION:Book SaleB
URL:https://knoxvkh.ca/event/book-sale-20/
END:VEVENT
BEGIN:VEVENT
DTSTART;TZID=UTC:20241203T130000
DTEND;TZID=UTC:20241203T143000
DTSTAMP:20260419T151051
CREATED:20241111T195633Z
LAST-MODIFIED:20241111T195633Z
UID:3675-1733230800-1733236200@knoxvkh.ca
SUMMARY:Heritage Lodge Worship
DESCRIPTION:
URL:https://knoxvkh.ca/event/heritage-lodge-worship-9/
END:VEVENT
BEGIN:VEVENT
DTSTART;TZID=UTC:20241201T110000
DTEND;TZID=UTC:20241201T133000
DTSTAMP:20260419T151051
CREATED:20241111T193424Z
LAST-MODIFIED:20241111T195430Z
UID:3673-1733050800-1733059800@knoxvkh.ca
SUMMARY:Advent 1  Hope ~Communion Worship in person and online
DESCRIPTION:
URL:https://knoxvkh.ca/event/advent-1-hope-communion-worship-in-person-and-online/
END:VEVENT
BEGIN:VEVENT
DTSTART;TZID=UTC:20241130T100000
DTEND;TZID=UTC:20241130T160000
DTSTAMP:20260419T151051
CREATED:20241112T183752Z
LAST-MODIFIED:20241112T183752Z
UID:3705-1732960800-1732982400@knoxvkh.ca
SUMMARY:Book Sale
DESCRIPTION:
URL:https://knoxvkh.ca/event/book-sale-19/
END:VEVENT
BEGIN:VEVENT
DTSTART;TZID=UTC:20241129T100000
DTEND;TZID=UTC:20241129T160000
DTSTAMP:20260419T151051
CREATED:20241112T183633Z
LAST-MODIFIED:20241112T183633Z
UID:3703-1732874400-1732896000@knoxvkh.ca
SUMMARY:Book Sale
DESCRIPTION:
URL:https://knoxvkh.ca/event/book-sale-18/
END:VEVENT
BEGIN:VEVENT
DTSTART;VALUE=DATE:20241128
DTEND;VALUE=DATE:20241129
DTSTAMP:20260419T151051
CREATED:20241111T192849Z
LAST-MODIFIED:20241111T193113Z
UID:3669-1732752000-1732838399@knoxvkh.ca
SUMMARY:Presbyterian Visitation ~ evening
DESCRIPTION:
URL:https://knoxvkh.ca/event/worship-in-person-and-online-50/
END:VEVENT
BEGIN:VEVENT
DTSTART;TZID=UTC:20241124T190000
DTEND;TZID=UTC:20241124T210000
DTSTAMP:20260419T151051
CREATED:20241111T192657Z
LAST-MODIFIED:20241111T192657Z
UID:3667-1732474800-1732482000@knoxvkh.ca
SUMMARY:Knox @ Night
DESCRIPTION:
URL:https://knoxvkh.ca/event/knox-night-2/
END:VEVENT
BEGIN:VEVENT
DTSTART;TZID=UTC:20241123T100000
DTEND;TZID=UTC:20241123T160000
DTSTAMP:20260419T151051
CREATED:20241111T220811Z
LAST-MODIFIED:20241111T220811Z
UID:3698-1732356000-1732377600@knoxvkh.ca
SUMMARY:Book Sale
DESCRIPTION:
URL:https://knoxvkh.ca/event/book-sale-16/
END:VEVENT
BEGIN:VEVENT
DTSTART;TZID=UTC:20241123T080000
DTEND;TZID=UTC:20241123T103000
DTSTAMP:20260419T151051
CREATED:20241111T192425Z
LAST-MODIFIED:20241111T192425Z
UID:3665-1732348800-1732357800@knoxvkh.ca
SUMMARY:Ladies Breakfast and Bible Study
DESCRIPTION:
URL:https://knoxvkh.ca/event/ladies-breakfast-and-bible-study/
END:VEVENT
BEGIN:VEVENT
DTSTART;TZID=UTC:20241122T100000
DTEND;TZID=UTC:20241122T160000
DTSTAMP:20260419T151051
CREATED:20241112T183452Z
LAST-MODIFIED:20241112T183452Z
UID:3701-1732269600-1732291200@knoxvkh.ca
SUMMARY:Book Sale
DESCRIPTION:
URL:https://knoxvkh.ca/event/book-sale-17/
END:VEVENT
BEGIN:VEVENT
DTSTART;TZID=UTC:20241117T110000
DTEND;TZID=UTC:20241117T133000
DTSTAMP:20260419T151051
CREATED:20241111T192204Z
LAST-MODIFIED:20241111T192204Z
UID:3663-1731841200-1731850200@knoxvkh.ca
SUMMARY:Worship in person and online ~Christmas Box Dedication ~Return Questionnaires
DESCRIPTION:
URL:https://knoxvkh.ca/event/worship-in-person-and-online-christmas-box-dedication-return-questionnaires/
END:VEVENT
BEGIN:VEVENT
DTSTART;TZID=UTC:20241116T100000
DTEND;TZID=UTC:20241116T120000
DTSTAMP:20260419T151051
CREATED:20241111T191715Z
LAST-MODIFIED:20241111T191715Z
UID:3661-1731751200-1731758400@knoxvkh.ca
SUMMARY:Christmas Box Packing
DESCRIPTION:
URL:https://knoxvkh.ca/event/christmas-box-packing/
END:VEVENT
BEGIN:VEVENT
DTSTART;TZID=UTC:20241110T110000
DTEND;TZID=UTC:20241110T140000
DTSTAMP:20260419T151051
CREATED:20241111T191354Z
LAST-MODIFIED:20241111T191354Z
UID:3659-1731236400-1731247200@knoxvkh.ca
SUMMARY:Worship in person and online  Fellowship Lunch
DESCRIPTION:
URL:https://knoxvkh.ca/event/worship-in-person-and-online-fellowship-lunch-4/
END:VEVENT
BEGIN:VEVENT
DTSTART;TZID=UTC:20241109T080000
DTEND;TZID=UTC:20241109T100000
DTSTAMP:20260419T151051
CREATED:20241030T204634Z
LAST-MODIFIED:20241030T222419Z
UID:3655-1731139200-1731146400@knoxvkh.ca
SUMMARY:Men's Breakfast & Bible Study
DESCRIPTION:
URL:https://knoxvkh.ca/event/mens-breakfast-bible-study-2/
END:VEVENT
BEGIN:VEVENT
DTSTART;TZID=UTC:20241105T130000
DTEND;TZID=UTC:20241105T143000
DTSTAMP:20260419T151051
CREATED:20241030T204253Z
LAST-MODIFIED:20241030T204253Z
UID:3653-1730811600-1730817000@knoxvkh.ca
SUMMARY:Heritage Lodge Worship
DESCRIPTION:
URL:https://knoxvkh.ca/event/heritage-lodge-worship-8/
END:VEVENT
BEGIN:VEVENT
DTSTART;TZID=UTC:20241103T110000
DTEND;TZID=UTC:20241103T133000
DTSTAMP:20260419T151051
CREATED:20241030T204025Z
LAST-MODIFIED:20241030T204025Z
UID:3651-1730631600-1730640600@knoxvkh.ca
SUMMARY:Worship in person and online
DESCRIPTION:
URL:https://knoxvkh.ca/event/worship-in-person-and-online-49/
END:VEVENT
BEGIN:VEVENT
DTSTART;TZID=UTC:20241102T120000
DTEND;TZID=UTC:20241102T133000
DTSTAMP:20260419T151051
CREATED:20241030T203807Z
LAST-MODIFIED:20241030T203807Z
UID:3649-1730548800-1730554200@knoxvkh.ca
SUMMARY:Christmas Home Tour & Lunch
DESCRIPTION:
URL:https://knoxvkh.ca/event/christmas-home-tour-lunch/
END:VEVENT
BEGIN:VEVENT
DTSTART;TZID=UTC:20241027T190000
DTEND;TZID=UTC:20241027T220000
DTSTAMP:20260419T151051
CREATED:20240914T182753Z
LAST-MODIFIED:20240914T182753Z
UID:3615-1730055600-1730066400@knoxvkh.ca
SUMMARY:Knox at Night
DESCRIPTION:
URL:https://knoxvkh.ca/event/knox-at-night-14/
END:VEVENT
BEGIN:VEVENT
DTSTART;TZID=UTC:20241027T110000
DTEND;TZID=UTC:20241027T120000
DTSTAMP:20260419T151051
CREATED:20240531T190613Z
LAST-MODIFIED:20240531T190613Z
UID:3596-1730026800-1730030400@knoxvkh.ca
SUMMARY:Worship Online and in person
DESCRIPTION:
URL:https://knoxvkh.ca/event/worship-online-and-in-person-3/
END:VEVENT
END:VCALENDAR