BEGIN:VCALENDAR
VERSION:2.0
PRODID:-//Knox Presbyterian Church - ECPv6.6.4.2//NONSGML v1.0//EN
CALSCALE:GREGORIAN
METHOD:PUBLISH
X-WR-CALNAME:Knox Presbyterian Church
X-ORIGINAL-URL:https://knoxvkh.ca
X-WR-CALDESC:Events for Knox Presbyterian Church
REFRESH-INTERVAL;VALUE=DURATION:PT1H
X-Robots-Tag:noindex
X-PUBLISHED-TTL:PT1H
BEGIN:VTIMEZONE
TZID:UTC
BEGIN:STANDARD
TZOFFSETFROM:+0000
TZOFFSETTO:+0000
TZNAME:UTC
DTSTART:20250101T000000
END:STANDARD
END:VTIMEZONE
BEGIN:VEVENT
DTSTART;TZID=UTC:20250202T110000
DTEND;TZID=UTC:20250202T130000
DTSTAMP:20260422T212632
CREATED:20250203T224138Z
LAST-MODIFIED:20250203T224138Z
UID:3717-1738494000-1738501200@knoxvkh.ca
SUMMARY:Worship in person or online
DESCRIPTION:
URL:https://knoxvkh.ca/event/worship-in-person-or-online/
END:VEVENT
BEGIN:VEVENT
DTSTART;TZID=UTC:20250209T110000
DTEND;TZID=UTC:20250209T130000
DTSTAMP:20260422T212632
CREATED:20250203T224418Z
LAST-MODIFIED:20250208T174928Z
UID:3719-1739098800-1739106000@knoxvkh.ca
SUMMARY:Worship in person or online      Chili Competition
DESCRIPTION:
URL:https://knoxvkh.ca/event/worship-in-person-or-online-2/
END:VEVENT
BEGIN:VEVENT
DTSTART;TZID=UTC:20250216T110000
DTEND;TZID=UTC:20250216T130000
DTSTAMP:20260422T212632
CREATED:20250208T175211Z
LAST-MODIFIED:20250214T194549Z
UID:3729-1739703600-1739710800@knoxvkh.ca
SUMMARY:Due to weather todays worship is cancelled
DESCRIPTION:
URL:https://knoxvkh.ca/event/worship-in-person-or-online-4/
END:VEVENT
BEGIN:VEVENT
DTSTART;TZID=UTC:20250222T080000
DTEND;TZID=UTC:20250222T103000
DTSTAMP:20260422T212632
CREATED:20250208T175629Z
LAST-MODIFIED:20250208T175629Z
UID:3731-1740211200-1740220200@knoxvkh.ca
SUMMARY:Woman's Bible Study and Breakfast
DESCRIPTION:
URL:https://knoxvkh.ca/event/womans-bible-study-and-breakfast/
END:VEVENT
BEGIN:VEVENT
DTSTART;TZID=UTC:20250223T110000
DTEND;TZID=UTC:20250223T130000
DTSTAMP:20260422T212632
CREATED:20250203T231732Z
LAST-MODIFIED:20250203T231822Z
UID:3725-1740308400-1740315600@knoxvkh.ca
SUMMARY:Worship in person or online
DESCRIPTION:
URL:https://knoxvkh.ca/event/worship-in-person-or-online-3/
END:VEVENT
BEGIN:VEVENT
DTSTART;TZID=UTC:20250223T190000
DTEND;TZID=UTC:20250223T220000
DTSTAMP:20260422T212632
CREATED:20250208T175848Z
LAST-MODIFIED:20250208T175848Z
UID:3733-1740337200-1740348000@knoxvkh.ca
SUMMARY:Knox @ Night worship
DESCRIPTION:
URL:https://knoxvkh.ca/event/knox-night-worship/
END:VEVENT
END:VCALENDAR