BEGIN:VCALENDAR
VERSION:2.0
PRODID:-//Knox Presbyterian Church - ECPv6.6.4.2//NONSGML v1.0//EN
CALSCALE:GREGORIAN
METHOD:PUBLISH
X-ORIGINAL-URL:https://knoxvkh.ca
X-WR-CALDESC:Events for Knox Presbyterian Church
REFRESH-INTERVAL;VALUE=DURATION:PT1H
X-Robots-Tag:noindex
X-PUBLISHED-TTL:PT1H
BEGIN:VTIMEZONE
TZID:UTC
BEGIN:STANDARD
TZOFFSETFROM:+0000
TZOFFSETTO:+0000
TZNAME:UTC
DTSTART:20250101T000000
END:STANDARD
END:VTIMEZONE
BEGIN:VEVENT
DTSTART;TZID=UTC:20250504T110000
DTEND;TZID=UTC:20250504T130000
DTSTAMP:20260421T043659
CREATED:20250317T224434Z
LAST-MODIFIED:20250317T224434Z
UID:3805-1746356400-1746363600@knoxvkh.ca
SUMMARY:Worship   In person and online
DESCRIPTION:
URL:https://knoxvkh.ca/event/worship-in-person-and-online-55/
END:VEVENT
BEGIN:VEVENT
DTSTART;TZID=UTC:20250511T110000
DTEND;TZID=UTC:20250511T130000
DTSTAMP:20260421T043659
CREATED:20250317T225903Z
LAST-MODIFIED:20250317T225903Z
UID:3811-1746961200-1746968400@knoxvkh.ca
SUMMARY:Worship in person and  online
DESCRIPTION:
URL:https://knoxvkh.ca/event/worship-in-person-and-online-56/
END:VEVENT
BEGIN:VEVENT
DTSTART;TZID=UTC:20250518T100000
DTEND;TZID=UTC:20250518T130000
DTSTAMP:20260421T043659
CREATED:20250317T230025Z
LAST-MODIFIED:20250317T230025Z
UID:3813-1747562400-1747573200@knoxvkh.ca
SUMMARY:Worship in person and online
DESCRIPTION:
URL:https://knoxvkh.ca/event/worship-in-person-and-online-57/
END:VEVENT
BEGIN:VEVENT
DTSTART;VALUE=DATE:20250524
DTEND;VALUE=DATE:20250525
DTSTAMP:20260421T043659
CREATED:20250226T191648Z
LAST-MODIFIED:20250317T225230Z
UID:3772-1748044800-1748131199@knoxvkh.ca
SUMMARY:200th Anniversary BBQ Chicken dinner ~ Catered  100 tickets only  5:00pm
DESCRIPTION:
URL:https://knoxvkh.ca/event/200th-anniversary-bbq-chicken-dinner-details-to-follow/
END:VEVENT
BEGIN:VEVENT
DTSTART;TZID=UTC:20250525T110000
DTEND;TZID=UTC:20250525T130000
DTSTAMP:20260421T043659
CREATED:20250317T225532Z
LAST-MODIFIED:20250317T225532Z
UID:3809-1748170800-1748178000@knoxvkh.ca
SUMMARY:200th Anniversary Worship           Norway Maple planting
DESCRIPTION:
URL:https://knoxvkh.ca/event/200th-anniversary-worship-norway-maple-planting/
END:VEVENT
END:VCALENDAR