BEGIN:VCALENDAR
VERSION:2.0
PRODID:-//Knox Presbyterian Church - ECPv6.6.4.2//NONSGML v1.0//EN
CALSCALE:GREGORIAN
METHOD:PUBLISH
X-WR-CALNAME:Knox Presbyterian Church
X-ORIGINAL-URL:https://knoxvkh.ca
X-WR-CALDESC:Events for Knox Presbyterian Church
REFRESH-INTERVAL;VALUE=DURATION:PT1H
X-Robots-Tag:noindex
X-PUBLISHED-TTL:PT1H
BEGIN:VTIMEZONE
TZID:UTC
BEGIN:STANDARD
TZOFFSETFROM:+0000
TZOFFSETTO:+0000
TZNAME:UTC
DTSTART:20250101T000000
END:STANDARD
END:VTIMEZONE
BEGIN:VEVENT
DTSTART;TZID=UTC:20250831T093000
DTEND;TZID=UTC:20250831T120000
DTSTAMP:20260421T001127
CREATED:20250815T153616Z
LAST-MODIFIED:20250815T154736Z
UID:3859-1756632600-1756641600@knoxvkh.ca
SUMMARY:St Paul's 196th Anniversary at 9:30am and Knox will be closed to join St Paul's
DESCRIPTION:
URL:https://knoxvkh.ca/event/st-pauls-196th-anniversary-at-930am-and-knox-will-be-closed-to-join-st-pauls/
END:VEVENT
END:VCALENDAR